Workbook
Name _1._Yleistä: Ohjeet!$A$20
Name _10._Piilotetut_rivit_ja_sarakkeet: Ohjeet!$A$51
Name _11._Kiinnitetyt_ruudut: Ohjeet!$A$54
Name _12._Yhteenvedot: Ohjeet!$A$56
Name _14._Vaihtoehto_monenkokoisille_välineille: Ohjeet!$A$68
Name _15._Rivien_lisääminen_tallennustaulukkkoon: Ohjeet!$A$73
Name _16.__Latojan_huomautuksia: Ohjeet!$A$76
Name _2._Sarjan_valinta: Ohjeet!$A$24
Name _3._Kilpailijat: Ohjeet!$A$26
Name _4._Tallennustaulukot: Ohjeet!$A$29
Name _5._Mittauspöytäkirjat: Ohjeet!$A$33
Name _6._Taulukoiden_kopioiminen: Ohjeet!$A$35
Name _7._Taulukoiden_suojaaminen: Ohjeet!$A$39
Name _8._Tietojen_kelpoisuuden_tarkistaminen: Ohjeet!$A$43
Name _9._Tallennustaulukon_tulostaminen: Ohjeet!$A$45
Name Hylkäyssyyt: Yht_veto!#REF!
Name Linkkejä: Ohjeet!$A$58
Name Ohjeiden_alku: Ohjeet!$A$1

Sheet Ohjeet
A1: Alla olevista linkeistä pääset eri ohjealueisiin
A2: Välineiden mittauspöytäkirjan käyttöohjeet
A3: 1. Yleistä ja välineiden numerointi
A4: 2. Sarjan valinta (samasta taulukosta eri sarjoihin sopiva)
A5: 3. Kilpailijat (Osanottajaluettelon tallentaminen) | B5: Alla olevista linkeistä lajitaulukoihin
A6: 4. Tallennustaulukot (mittaustietojen tallentaminen, ehdollinen muotoilu[esim. värit]) | B6: Javelin Keihäs | C6: Javelin Keihäs Pöytäkirja
A7: 5. Mittauspöytäkirjat (voi tulostaa hylättyyn välineeseen) | B7: Discus Kiekko | C7: Discus Kiekko Pöytäkirja
A8: 6. Taulukoiden kopioiminen (useisiin sarjoihin saman lajin taulukko) | B8: Hammer Moukari | C8: Hammer Moukari Pöytäkirja
A9: 7. Taulukoiden suojaaminen, suojauksen poistaminen | B9: Shot put Kuula | C9: Shot put Kuula Pöytäkirja
A10: 8. Tietojen kelpoisuuden tarkistaminen (estää virheellisiä näppäilyjä) | B10: Weight throw Painonheitto | C10: Weight throw Painonheitto pöytäkirja
A11: 9. Tulostaminen (taulukko mukaan kentälle, hylättyjen pöytäkirjat välineeseen ja kentälle) | B11: Kilpailijat | C11: Yhteenveto
A12: 10. Piilotetut rivit ja sarakkeet | B12: Mitat
A13: 11. Kiinnitetyt ruudut | B13: Yllä olevista linkeistä lajitaulukoihin
A14: 12. Yhteenvedot | B14: Sarjojen nimiä voi muuttaa. Esim. valitse muutettavat solut >Ctrl+H > Etsittävä Javelin Keihäs > Korvaava Keihäs M22 > Korvaa kaikki
A15: 13. Linkkejä
A16: 14. Vaihtoehto monen kokoisille välineille
A17: 15. Rivien lisääminen tallennustaulukkoon
A18: 16. "Latojan huomautuksia"
A20: 1. Yleistä Tämä pöytäkirja on tarkoitettu avuksi heittovälineiden mittaukseen. Aloituspohjana on Heikki Holmbergin tekemä pöytäkirja, jonka Paavo Kosunen muokkasi siten, että samaan taulukkoon tallennetaan riveittäin useita välineitä, esim. moukareita.
A21: Tässä versiossa on lisäksi ominaisuus, että kunkin välineen (esim. keihäs) taulukkoa voidaan käyttää eri sarjojen välineiden punnituksessa. Sarjan valinta kohta 2, monta sarjaa kohta 14
A22: Kukin väline, (esim. keihäs) numeroitava juoksevasti sarjasta riippumatta
A23: Ohjeen alkuun
A24: 2. Sarjan valinta: Taulukoissa sanan sarja vieressä on väritetty solu, johon kirjoitetaan sarjan nimi käyttäen taulukossa "Mitat" käytettyjä sarjojen tunnuksia, esim. M, N15, N45 jne. Yksi sarja tallennuksista esille, suodatus sarakkeessa sarja
A25: Ohjeen alkuun
A26: 3. Kilpailijat merkitään taulukkoon "Kilpailijat" käyttäen sarakeotsikoiden kommenteissa ohjeistettua tapaa (kommentti näkyy vietäessä kohdistin otsikkosoluun)
A27: Kaava hakee kilpailijan nimen tallennustaulukkoon. Jos kilpailijat taulukossa ei ole osanottajaluetteloa, on kilpailijan nimi kirjoitettava tallennustaulukkoon.
... A81: Ohjeen alkuun

Sheet JavKeih
D1: Kilpailutapahtuma: | E1: =Kilpailijat!$C$1 -> 0
A2: KEIHÄÄN MITTAUSPÖYTÄKIRJA: | H2: Ohjeet | J2: Nuorten 400 g keihäät, kilpailujen järjestäjä päättää, mitä mitataan | K2: =IF(G5=400,J2,"") | AA2: Ohjeet
G3: MITTAUSTULOKSET | L3: Autom.laskuri | S3: Autom.laskuri | T3: Autom.laskuri | AK3: =C5 -> M
B4: Keihäs | H4: L0 | J4: L1 | K4: D0 | L4: L1:2 | M4: D5 | N4: D3 | O4: D4 | P4: D2 | Q4: L3 | R4: D1 | S4: L2 | T4: L2:2 | U4: D7 | V4: D8 | W4: D9 | X4: D6 | Y4: L4
B5: Sarja | C5: M | F5: Minimi > | G5: =VLOOKUP($C$5,Mitat!$A$168:$N$220,2,0) -> 800 | H5: =VLOOKUP($C$5,Mitat!$A$168:$N$220,7,0) -> 2600 | I5: (Kyllä=1 Ei=0) | J5: =VLOOKUP($C$5,Mitat!$A$168:$N$220,9,0) -> 900 | K5: =VLOOKUP($C$5,Mitat!$A$168:$N$220,5,0) -> 25 | L5: =J5/2 -> 450 | O5: D3-2,5 | Q5: =VLOOKUP($C$5,Mitat!$A$168:$N$220,13,0) -> 250 | R5: D0-0,25 | S5: =H5-J6 -> 1540 | T5: =S5/2 -> 770 | U5: 0,9*D0 | V5: 0,4*D0 | W5: 3.5 | Y5: =VLOOKUP($C$5,Mitat!$A$168:$N$220,11,0) -> 150 | Z5: (Kyllä=1 Ei=0) | AA5: (Kyllä=1 Ei=0)
F6: Maksimi > | H6: =VLOOKUP($C$5,Mitat!$A$168:$N$220,8,0) -> 2700 | J6: =VLOOKUP($C$5,Mitat!$A$168:$N$220,10,0) -> 1060 | K6: =VLOOKUP($C$5,Mitat!$A$168:$N$220,6,0) -> 30 | L6: =J6/2 -> 530 | M6: 0,9*D0 | P6: 0,8*DO | Q6: =VLOOKUP($C$5,Mitat!$A$168:$N$220,14,0) -> 330 | R6: D0 | S6: =H6-J5 -> 1800 | T6: =S6/2 -> 900 | X6: 8+D0 | Y6: =VLOOKUP($C$5,Mitat!$A$168:$N$220,12,0) -> 160 | AC6: Yhteismäärät
F7: Mittaus/hylkäyssyy numero > | G7: 1 | H7: 2 | I7: 3 | J7: 4 | K7: 5 | M7: 6 | N7: 7 | O7: 8 | P7: 9 | Q7: 10 | R7: 11 | U7: 12 | V7: 13 | W7: 14 | X7: 15 | Y7: 16 | Z7: 17 | AA7: 18 | AC7: =COUNTA(AC9:AC99) -> 0 | AD7: =COUNTA(AD9:AD99) -> 0 | AM7: Tarkastavat henkilöt
A8: Keihään Numero | B8: Kilpailijan Numero | C8: Keihään Omistaja: | D8: Mittaajan puumerkki keihäässä: | E8: Materiaali: | F8: Keihään valmistaja ja merkki: | G8: Paino (g) | H8: Kokonais- pituus (mm) | I8: Painopiste kädensijan alla (Kyllä=1 Ei=0) | J8: Painopiste kärjestä (mm) | K8: Paksuus kädensijan edestä (mm) | L8: Painopiste kärjessä:2 (mm) | M8: Paksuus etuosan puoliväli (mm) | N8: Paksuus kärjen takaosassa (mm) | O8: Paksuus heti kärjen takaa (mm) | P8: Paksuus 150mm kärjestä (mm) | Q8: Kärjen pituus (mm) | R8: Paksuus kädensijan takana (mm) | S8: Pituus pyrstöstä painopis- teeseen (mm) | T8: L2:2 | U8: Paksuus takaosan puoliväli (mm) | V8: Paksuus 150 mm pyrstöstä (mm) | W8: Pyrstön paksuus (mm) | X8: Käden- sijan paksuus (mm) | Y8: Käden- sijan pituus (mm) | Z8: Kärki- kulma alle 40 (astetta) | AA8: Läpäisee rakotulk- kitestin | AB8: Muuta tietoa tai huomautuksia keihäästä: | AC8: KEIHÄS Hyväksytty merkitse 1 | AD8: Keihäs hylätty merkitse 1 | AE8: HYLKÄYKSEN SYYN NRO | AF8: HYLKÄYKSEN SYY | AG8: MUUN HYLKÄYSSYYN SELITYS: | AH8: Tarkastaja NRO | AI8: Tarkastajan nimi | AJ8: Haku | AK8: Sarja | AM8: NRO | AN8: NIMI | AP8: Numero | AQ8: Hylkäyssyy
C9: =IF(B9="","",VLOOKUP(AJ9,Kilpailijat!$A$11:$E$5015,5,0)) | L9: =J9/2 -> 0 | S9: =H9-J9 -> 0 | T9: =S9/2 -> 0 | AF9: =IF(AE9="","",VLOOKUP(AE9,$AP$9:$AQ$94,2,0)) | AI9: =IF(AH9="","",VLOOKUP(AH9,$AM$9:$AN$94,2,0)) | AJ9: =$B$4&$C$5&B9 -> KeihäsM | AM9: 1 | AP9: 1 | AQ9: Paino
C10: =IF(B10="","",VLOOKUP(AJ10,Kilpailijat!$A$11:$E$5015,5,0)) | L10: =J10/2 -> 0 | S10: =H10-J10 -> 0 | T10: =S10/2 -> 0 | AF10: =IF(AE10="","",VLOOKUP(AE10,$AP$9:$AQ$94,2,0)) | AI10: =IF(AH10="","",VLOOKUP(AH10,$AM$9:$AN$94,2,0)) | AJ10: =$B$4&$C$5&B10 -> KeihäsM | AM10: 2 | AP10: 2 | AQ10: Kokonaispituus
C11: =IF(B11="","",VLOOKUP(AJ11,Kilpailijat!$A$11:$E$5015,5,0)) | L11: =J11/2 -> 0 | S11: =H11-J11 -> 0 | T11: =S11/2 -> 0 | AF11: =IF(AE11="","",VLOOKUP(AE11,$AP$9:$AQ$94,2,0)) | AI11: =IF(AH11="","",VLOOKUP(AH11,$AM$9:$AN$94,2,0)) | AJ11: =$B$4&$C$5&B11 -> KeihäsM | AM11: 3 | AP11: 3 | AQ11: Painopiste kädensijan alla
C12: =IF(B12="","",VLOOKUP(AJ12,Kilpailijat!$A$11:$E$5015,5,0)) | L12: =J12/2 -> 0 | S12: =H12-J12 -> 0 | T12: =S12/2 -> 0 | AF12: =IF(AE12="","",VLOOKUP(AE12,$AP$9:$AQ$94,2,0)) | AI12: =IF(AH12="","",VLOOKUP(AH12,$AM$9:$AN$94,2,0)) | AJ12: =$B$4&$C$5&B12 -> KeihäsM | AM12: 4 | AP12: 4 | AQ12: Painopiste kärjestä
C13: =IF(B13="","",VLOOKUP(AJ13,Kilpailijat!$A$11:$E$5015,5,0)) | L13: =J13/2 -> 0 | S13: =H13-J13 -> 0 | T13: =S13/2 -> 0 | AF13: =IF(AE13="","",VLOOKUP(AE13,$AP$9:$AQ$94,2,0)) | AI13: =IF(AH13="","",VLOOKUP(AH13,$AM$9:$AN$94,2,0)) | AJ13: =$B$4&$C$5&B13 -> KeihäsM | AM13: 5 | AP13: 5 | AQ13: Paksuus kädensijan edestä
C14: =IF(B14="","",VLOOKUP(AJ14,Kilpailijat!$A$11:$E$5015,5,0)) | L14: =J14/2 -> 0 | S14: =H14-J14 -> 0 | T14: =S14/2 -> 0 | AF14: =IF(AE14="","",VLOOKUP(AE14,$AP$9:$AQ$94,2,0)) | AI14: =IF(AH14="","",VLOOKUP(AH14,$AM$9:$AN$94,2,0)) | AJ14: =$B$4&$C$5&B14 -> KeihäsM | AM14: 6 | AP14: 6 | AQ14: Paksuus etuosan puoliväli
C15: =IF(B15="","",VLOOKUP(AJ15,Kilpailijat!$A$11:$E$5015,5,0)) | L15: =J15/2 -> 0 | S15: =H15-J15 -> 0 | T15: =S15/2 -> 0 | AF15: =IF(AE15="","",VLOOKUP(AE15,$AP$9:$AQ$94,2,0)) | AI15: =IF(AH15="","",VLOOKUP(AH15,$AM$9:$AN$94,2,0)) | AJ15: =$B$4&$C$5&B15 -> KeihäsM | AM15: 7 | AP15: 7 | AQ15: Paksuus kärjen takaosassa
C16: =IF(B16="","",VLOOKUP(AJ16,Kilpailijat!$A$11:$E$5015,5,0)) | L16: =J16/2 -> 0 | S16: =H16-J16 -> 0 | T16: =S16/2 -> 0 | AF16: =IF(AE16="","",VLOOKUP(AE16,$AP$9:$AQ$94,2,0)) | AI16: =IF(AH16="","",VLOOKUP(AH16,$AM$9:$AN$94,2,0)) | AJ16: =$B$4&$C$5&B16 -> KeihäsM | AM16: 8 | AP16: 8 | AQ16: Paksuus heti kärjen takaa
C17: =IF(B17="","",VLOOKUP(AJ17,Kilpailijat!$A$11:$E$5015,5,0)) | L17: =J17/2 -> 0 | S17: =H17-J17 -> 0 | T17: =S17/2 -> 0 | AF17: =IF(AE17="","",VLOOKUP(AE17,$AP$9:$AQ$94,2,0)) | AI17: =IF(AH17="","",VLOOKUP(AH17,$AM$9:$AN$94,2,0)) | AJ17: =$B$4&$C$5&B17 -> KeihäsM | AM17: 9 | AP17: 9 | AQ17: Paksuus 150mm kärjestä
C18: =IF(B18="","",VLOOKUP(AJ18,Kilpailijat!$A$11:$E$5015,5,0)) | L18: =J18/2 -> 0 | S18: =H18-J18 -> 0 | T18: =S18/2 -> 0 | AF18: =IF(AE18="","",VLOOKUP(AE18,$AP$9:$AQ$94,2,0)) | AI18: =IF(AH18="","",VLOOKUP(AH18,$AM$9:$AN$94,2,0)) | AJ18: =$B$4&$C$5&B18 -> KeihäsM | AM18: 10 | AP18: 10 | AQ18: Kärjen pituus
C19: =IF(B19="","",VLOOKUP(AJ19,Kilpailijat!$A$11:$E$5015,5,0)) | L19: =J19/2 -> 0 | S19: =H19-J19 -> 0 | T19: =S19/2 -> 0 | AF19: =IF(AE19="","",VLOOKUP(AE19,$AP$9:$AQ$94,2,0)) | AI19: =IF(AH19="","",VLOOKUP(AH19,$AM$9:$AN$94,2,0)) | AJ19: =$B$4&$C$5&B19 -> KeihäsM | AM19: 11 | AP19: 11 | AQ19: Paksuus kädensijan takana
C20: =IF(B20="","",VLOOKUP(AJ20,Kilpailijat!$A$11:$E$5015,5,0)) | L20: =J20/2 -> 0 | S20: =H20-J20 -> 0 | T20: =S20/2 -> 0 | AF20: =IF(AE20="","",VLOOKUP(AE20,$AP$9:$AQ$94,2,0)) | AI20: =IF(AH20="","",VLOOKUP(AH20,$AM$9:$AN$94,2,0)) | AJ20: =$B$4&$C$5&B20 -> KeihäsM | AM20: 12 | AP20: 12 | AQ20: Paksuus takaosan puoliväli
C21: =IF(B21="","",VLOOKUP(AJ21,Kilpailijat!$A$11:$E$5015,5,0)) | L21: =J21/2 -> 0 | S21: =H21-J21 -> 0 | T21: =S21/2 -> 0 | AF21: =IF(AE21="","",VLOOKUP(AE21,$AP$9:$AQ$94,2,0)) | AI21: =IF(AH21="","",VLOOKUP(AH21,$AM$9:$AN$94,2,0)) | AJ21: =$B$4&$C$5&B21 -> KeihäsM | AP21: 13 | AQ21: Paksuus 150 mm pyrstöstä
C22: =IF(B22="","",VLOOKUP(AJ22,Kilpailijat!$A$11:$E$5015,5,0)) | L22: =J22/2 -> 0 | S22: =H22-J22 -> 0 | T22: =S22/2 -> 0 | AF22: =IF(AE22="","",VLOOKUP(AE22,$AP$9:$AQ$94,2,0)) | AI22: =IF(AH22="","",VLOOKUP(AH22,$AM$9:$AN$94,2,0)) | AJ22: =$B$4&$C$5&B22 -> KeihäsM | AP22: 14 | AQ22: Pyrstön paksuus
C23: =IF(B23="","",VLOOKUP(AJ23,Kilpailijat!$A$11:$E$5015,5,0)) | L23: =J23/2 -> 0 | S23: =H23-J23 -> 0 | T23: =S23/2 -> 0 | AF23: =IF(AE23="","",VLOOKUP(AE23,$AP$9:$AQ$94,2,0)) | AI23: =IF(AH23="","",VLOOKUP(AH23,$AM$9:$AN$94,2,0)) | AJ23: =$B$4&$C$5&B23 -> KeihäsM | AP23: 15 | AQ23: Kädensijan paksuus
C24: =IF(B24="","",VLOOKUP(AJ24,Kilpailijat!$A$11:$E$5015,5,0)) | L24: =J24/2 -> 0 | S24: =H24-J24 -> 0 | T24: =S24/2 -> 0 | AF24: =IF(AE24="","",VLOOKUP(AE24,$AP$9:$AQ$94,2,0)) | AI24: =IF(AH24="","",VLOOKUP(AH24,$AM$9:$AN$94,2,0)) | AJ24: =$B$4&$C$5&B24 -> KeihäsM | AP24: 16 | AQ24: Kädensijan pituus
C25: =IF(B25="","",VLOOKUP(AJ25,Kilpailijat!$A$11:$E$5015,5,0)) | L25: =J25/2 -> 0 | S25: =H25-J25 -> 0 | T25: =S25/2 -> 0 | AF25: =IF(AE25="","",VLOOKUP(AE25,$AP$9:$AQ$94,2,0)) | AI25: =IF(AH25="","",VLOOKUP(AH25,$AM$9:$AN$94,2,0)) | AJ25: =$B$4&$C$5&B25 -> KeihäsM | AP25: 17 | AQ25: Kärkikulma alle 40 astetta
C26: =IF(B26="","",VLOOKUP(AJ26,Kilpailijat!$A$11:$E$5015,5,0)) | L26: =J26/2 -> 0 | S26: =H26-J26 -> 0 | T26: =S26/2 -> 0 | AF26: =IF(AE26="","",VLOOKUP(AE26,$AP$9:$AQ$94,2,0)) | AI26: =IF(AH26="","",VLOOKUP(AH26,$AM$9:$AN$94,2,0)) | AJ26: =$B$4&$C$5&B26 -> KeihäsM | AP26: 18 | AQ26: Rakotulkkitesti
C27: =IF(B27="","",VLOOKUP(AJ27,Kilpailijat!$A$11:$E$5015,5,0)) | L27: =J27/2 -> 0 | S27: =H27-J27 -> 0 | T27: =S27/2 -> 0 | AF27: =IF(AE27="","",VLOOKUP(AE27,$AP$9:$AQ$94,2,0)) | AI27: =IF(AH27="","",VLOOKUP(AH27,$AM$9:$AN$94,2,0)) | AJ27: =$B$4&$C$5&B27 -> KeihäsM | AP27: 19 | AQ27: Muu
C28: =IF(B28="","",VLOOKUP(AJ28,Kilpailijat!$A$11:$E$5015,5,0)) | L28: =J28/2 -> 0 | S28: =H28-J28 -> 0 | T28: =S28/2 -> 0 | AF28: =IF(AE28="","",VLOOKUP(AE28,$AP$9:$AQ$94,2,0)) | AI28: =IF(AH28="","",VLOOKUP(AH28,$AM$9:$AN$94,2,0)) | AJ28: =$B$4&$C$5&B28 -> KeihäsM
C29: =IF(B29="","",VLOOKUP(AJ29,Kilpailijat!$A$11:$E$5015,5,0)) | L29: =J29/2 -> 0 | S29: =H29-J29 -> 0 | T29: =S29/2 -> 0 | AF29: =IF(AE29="","",VLOOKUP(AE29,$AP$9:$AQ$94,2,0)) | AI29: =IF(AH29="","",VLOOKUP(AH29,$AM$9:$AN$94,2,0)) | AJ29: =$B$4&$C$5&B29 -> KeihäsM
C30: =IF(B30="","",VLOOKUP(AJ30,Kilpailijat!$A$11:$E$5015,5,0)) | L30: =J30/2 -> 0 | S30: =H30-J30 -> 0 | T30: =S30/2 -> 0 | AF30: =IF(AE30="","",VLOOKUP(AE30,$AP$9:$AQ$94,2,0)) | AI30: =IF(AH30="","",VLOOKUP(AH30,$AM$9:$AN$94,2,0)) | AJ30: =$B$4&$C$5&B30 -> KeihäsM
C31: =IF(B31="","",VLOOKUP(AJ31,Kilpailijat!$A$11:$E$5015,5,0)) | L31: =J31/2 -> 0 | S31: =H31-J31 -> 0 | T31: =S31/2 -> 0 | AF31: =IF(AE31="","",VLOOKUP(AE31,$AP$9:$AQ$94,2,0)) | AI31: =IF(AH31="","",VLOOKUP(AH31,$AM$9:$AN$94,2,0)) | AJ31: =$B$4&$C$5&B31 -> KeihäsM
C32: =IF(B32="","",VLOOKUP(AJ32,Kilpailijat!$A$11:$E$5015,5,0)) | L32: =J32/2 -> 0 | S32: =H32-J32 -> 0 | T32: =S32/2 -> 0 | AF32: =IF(AE32="","",VLOOKUP(AE32,$AP$9:$AQ$94,2,0)) | AI32: =IF(AH32="","",VLOOKUP(AH32,$AM$9:$AN$94,2,0)) | AJ32: =$B$4&$C$5&B32 -> KeihäsM
C33: =IF(B33="","",VLOOKUP(AJ33,Kilpailijat!$A$11:$E$5015,5,0)) | L33: =J33/2 -> 0 | S33: =H33-J33 -> 0 | T33: =S33/2 -> 0 | AF33: =IF(AE33="","",VLOOKUP(AE33,$AP$9:$AQ$94,2,0)) | AI33: =IF(AH33="","",VLOOKUP(AH33,$AM$9:$AN$94,2,0)) | AJ33: =$B$4&$C$5&B33 -> KeihäsM
C34: =IF(B34="","",VLOOKUP(AJ34,Kilpailijat!$A$11:$E$5015,5,0)) | L34: =J34/2 -> 0 | S34: =H34-J34 -> 0 | T34: =S34/2 -> 0 | AF34: =IF(AE34="","",VLOOKUP(AE34,$AP$9:$AQ$94,2,0)) | AI34: =IF(AH34="","",VLOOKUP(AH34,$AM$9:$AN$94,2,0)) | AJ34: =$B$4&$C$5&B34 -> KeihäsM
C35: =IF(B35="","",VLOOKUP(AJ35,Kilpailijat!$A$11:$E$5015,5,0)) | L35: =J35/2 -> 0 | S35: =H35-J35 -> 0 | T35: =S35/2 -> 0 | AF35: =IF(AE35="","",VLOOKUP(AE35,$AP$9:$AQ$94,2,0)) | AI35: =IF(AH35="","",VLOOKUP(AH35,$AM$9:$AN$94,2,0)) | AJ35: =$B$4&$C$5&B35 -> KeihäsM
C36: =IF(B36="","",VLOOKUP(AJ36,Kilpailijat!$A$11:$E$5015,5,0)) | L36: =J36/2 -> 0 | S36: =H36-J36 -> 0 | T36: =S36/2 -> 0 | AF36: =IF(AE36="","",VLOOKUP(AE36,$AP$9:$AQ$94,2,0)) | AI36: =IF(AH36="","",VLOOKUP(AH36,$AM$9:$AN$94,2,0)) | AJ36: =$B$4&$C$5&B36 -> KeihäsM
C37: =IF(B37="","",VLOOKUP(AJ37,Kilpailijat!$A$11:$E$5015,5,0)) | L37: =J37/2 -> 0 | S37: =H37-J37 -> 0 | T37: =S37/2 -> 0 | AF37: =IF(AE37="","",VLOOKUP(AE37,$AP$9:$AQ$94,2,0)) | AI37: =IF(AH37="","",VLOOKUP(AH37,$AM$9:$AN$94,2,0)) | AJ37: =$B$4&$C$5&B37 -> KeihäsM
C38: =IF(B38="","",VLOOKUP(AJ38,Kilpailijat!$A$11:$E$5015,5,0)) | L38: =J38/2 -> 0 | S38: =H38-J38 -> 0 | T38: =S38/2 -> 0 | AF38: =IF(AE38="","",VLOOKUP(AE38,$AP$9:$AQ$94,2,0)) | AI38: =IF(AH38="","",VLOOKUP(AH38,$AM$9:$AN$94,2,0)) | AJ38: =$B$4&$C$5&B38 -> KeihäsM
C39: =IF(B39="","",VLOOKUP(AJ39,Kilpailijat!$A$11:$E$5015,5,0)) | L39: =J39/2 -> 0 | S39: =H39-J39 -> 0 | T39: =S39/2 -> 0 | AF39: =IF(AE39="","",VLOOKUP(AE39,$AP$9:$AQ$94,2,0)) | AI39: =IF(AH39="","",VLOOKUP(AH39,$AM$9:$AN$94,2,0)) | AJ39: =$B$4&$C$5&B39 -> KeihäsM
... C108: =IF(B108="","",VLOOKUP(AJ108,Kilpailijat!$A$11:$E$5015,5,0)) | L108: =J108/2 -> 0 | S108: =H108-J108 -> 0 | T108: =S108/2 -> 0 | AF108: =IF(AE108="","",VLOOKUP(AE108,$AP$9:$AQ$94,2,0)) | AI108: =IF(AH108="","",VLOOKUP(AH108,$AM$9:$AN$94,2,0)) | AJ108: =$B$4&$C$5&B108 -> KeihäsM

Sheet JavKeiPK
A1: Kilpailutapahtuma: | B1: =Kilpailijat!$C$1 -> 0
A2: KEIHÄÄN MITTAUSPÖYTÄKIRJA | I2: Ohjeet
A3: Keihään numero | G3: 1 | H3: Paino
A4: MITTAAJAN PUUMERKKI KEIHÄÄSSÄ: | D4: =VLOOKUP($B$3,JavKeih!$A$9:$AF$149,4,0) -> #N/A | G4: 2 | H4: Kokonaispituus
A5: KEIHÄÄN VALMISTAJA JA MERKKI: | D5: =VLOOKUP($B$3,JavKeih!$A$9:$AF$149,6,0) -> #N/A | G5: 3 | H5: Painopiste kädensijan alla
A6: KEIHÄÄN OMISTAJA: | D6: =VLOOKUP($B$3,JavKeih!$A$9:$AF$149,3,0) -> #N/A | G6: 4 | H6: Painopiste kärjestä
B7: Tunnus | C7: MINIMIARVO | D7: MITTAUSTULOS | E7: MAKSIMIARVO | G7: 5 | H7: Paksuus kädensijan edestä
A8: Paino (g) | C8: =JavKeih!G5 -> 800 | D8: =VLOOKUP($B$3,JavKeih!$A$9:$AF$149,7,0) -> #N/A | G8: 6 | H8: Paksuus etuosan puoliväli
A9: Kokonaispituus (mm) | B9: L0 | C9: =JavKeih!H5 -> 2600 | D9: =VLOOKUP($B$3,JavKeih!$A$9:$AF$149,8,0) -> #N/A | E9: =JavKeih!H6 -> 2700 | G9: 7 | H9: Paksuus kärjen takaosassa
A10: Painopiste kädensijan alla (Kyllä=1 Ei=0) | C10: (Yes=1 No=0) | D10: =VLOOKUP($B$3,JavKeih!$A$9:$AF$149,9,0) -> #N/A | G10: 8 | H10: Paksuus heti kärjen takaa
A11: Painopiste kärjestä (mm) | B11: L1 | C11: =JavKeih!J5 -> 900 | D11: =VLOOKUP($B$3,JavKeih!$A$9:$AF$149,10,0) -> #N/A | E11: =JavKeih!J6 -> 1060 | G11: 9 | H11: Paksuus 150mm kärjestä
A12: Paksuus kädensijan edestä (mm) | B12: D0 | C12: =JavKeih!K5 -> 25 | D12: =VLOOKUP($B$3,JavKeih!$A$9:$AF$149,11,0) -> #N/A | E12: =JavKeih!K6 -> 30 | G12: 10 | H12: Kärjen pituus
A13: Painopiste kärjessä:2 (mm) | B13: L1:2 | C13: =JavKeih!L5 -> 450 | D13: =VLOOKUP($B$3,JavKeih!$A$9:$AF$149,12,0) -> #N/A | E13: =JavKeih!L6 -> 530 | G13: 11 | H13: Paksuus kädensijan takana
A14: Paksuus etuosan puoliväli (mm) | B14: D5 | D14: =VLOOKUP($B$3,JavKeih!$A$9:$AF$149,13,0) -> #N/A | E14: =0.9*D12 -> #N/A | G14: 12 | H14: Paksuus takaosan puoliväli
A15: Paksuus kärjen takaosassa (mm) | B15: D3 | D15: =VLOOKUP($B$3,JavKeih!$A$9:$AF$149,14,0) -> #N/A | G15: 13 | H15: Paksuus 150 mm pyrstöstä
A16: Paksuus heti kärjen takaa (mm) | B16: D4 | C16: =D15-2.5 -> #N/A | D16: =VLOOKUP($B$3,JavKeih!$A$9:$AF$149,15,0) -> #N/A | G16: 14 | H16: Pyrstön paksuus
A17: Paksuus 150mm kärjestä (mm) | B17: D2 | D17: =VLOOKUP($B$3,JavKeih!$A$9:$AF$149,16,0) -> #N/A | E17: =0.8*D12 -> #N/A | G17: 15 | H17: Kädensijan paksuus
A18: Kärjen pituus (mm) | B18: L3 | C18: =JavKeih!Q5 -> 250 | D18: =VLOOKUP($B$3,JavKeih!$A$9:$AF$149,17,0) -> #N/A | E18: =JavKeih!Q6 -> 330 | G18: 16 | H18: Kädensijan pituus
A19: Paksuus kädensijan takana (mm) | B19: D1 | C19: =D12-0.25 -> #N/A | D19: =VLOOKUP($B$3,JavKeih!$A$9:$AF$149,18,0) -> #N/A | E19: =D12 -> #N/A | G19: 17 | H19: Kärkikulma alle 40 astetta
A20: Pituus pyrstöstä painopisteeseen (mm) | B20: L2 | C20: =JavKeih!S5 -> 1540 | D20: =VLOOKUP($B$3,JavKeih!$A$9:$AF$149,19,0) -> #N/A | E20: =JavKeih!S6 -> 1800 | G20: 18 | H20: Rakotulkkitesti
A21: L2:2 | B21: L2:2 | C21: =JavKeih!T5 -> 770 | D21: =VLOOKUP($B$3,JavKeih!$A$9:$AF$149,20,0) -> #N/A | E21: =JavKeih!T6 -> 900 | G21: 19 | H21: Muu
A22: Paksuus takaosan puoliväli (mm) | B22: D7 | C22: =0.9*D12 -> #N/A | D22: =VLOOKUP($B$3,JavKeih!$A$9:$AF$149,21,0) -> #N/A
A23: Paksuus 150 mm pyrstöstä (mm) | B23: D8 | C23: =0.4*D12 -> #N/A | D23: =VLOOKUP($B$3,JavKeih!$A$9:$AF$149,22,0) -> #N/A
A24: Pyrstön paksuus (mm) | B24: D9 | C24: =JavKeih!W5 -> 3.5 | D24: =VLOOKUP($B$3,JavKeih!$A$9:$AF$149,23,0) -> #N/A
A25: Kädensijan paksuus (mm) | B25: D6 | D25: =VLOOKUP($B$3,JavKeih!$A$9:$AF$149,24,0) -> #N/A | E25: =8+D12 -> #N/A
A26: Kädensijan pituus (mm) | B26: L4 | C26: =JavKeih!Y5 -> 150 | D26: =VLOOKUP($B$3,JavKeih!$A$9:$AF$149,25,0) -> #N/A | E26: =JavKeih!Y6 -> 160
A27: Kärkikulma alle 40 (astetta) (Kyllä=1 Ei=0) | C27: (Kyllä=1 Ei=0) | D27: =VLOOKUP($B$3,JavKeih!$A$9:$AF$149,26,0) -> #N/A
A28: Läpäisee rakotulkkitestin (Kyllä=1 Ei=0) | C28: (Kyllä=1 Ei=0) | D28: =VLOOKUP($B$3,JavKeih!$A$9:$AF$149,27,0) -> #N/A
A29: Muuta tietoa tai huomautuksia keihäästä:
A30: =VLOOKUP($B$3,JavKeih!$A$9:$AF$149,28,0) -> #N/A
A33: Keihäs on | B33: Hyväksytty | D33: =VLOOKUP($B$3,JavKeih!$A$9:$AF$149,29,0) -> #N/A
B34: Hylätty | D34: =VLOOKUP($B$3,JavKeih!$A$9:$AF$149,30,0) -> #N/A
A35: Hylkäyksen syy | B35: =VLOOKUP($B$3,JavKeih!$A$9:$AF$149,32,0) -> #N/A
A37: MUUN HYLKÄYSSYYN SELITYS:
A38: =VLOOKUP($B$3,JavKeih!$A$9:$AG$149,33,0) -> #N/A
A43: Tarkastuksen suoritti:
A45: Nimen selvennys:
A46: =VLOOKUP($B$3,JavKeih!$A$9:$AM$101,35,0) -> #N/A
A48: Tarkistuspäivämäärä: | C48: =IF(D48<>"","",NOW()) | D48: 42079

Sheet DisKie
D1: Kilpailutapahtuma: | E1: =Kilpailijat!$C$1 -> 0
A2: KIEKON MITTAUSPÖYTÄKIRJA: | G2: Ohjeet | I2: KIEKKO (Suluissa olevat mitat ovat ohjeellisia) | P2: Ohjeet
C3: Kiekko | F3: Minimi | G3: =VLOOKUP($D$4,Mitat!$A$59:$I$109,2,0) -> 2000 | H3: =VLOOKUP($D$4,Mitat!$A$59:$I$109,4,0) -> 219 | I3: =VLOOKUP($D$4,Mitat!$A$59:$I$109,8,0) -> 50 | J3: =VLOOKUP($D$4,Mitat!$A$59:$I$109,6,0) -> 44 | K3: =VLOOKUP($D$4,Mitat!$A$59:$J$109,10,0) -> 12 | V3: =D4 -> M
C4: Sarja | D4: M | F4: Maksimi | H4: =VLOOKUP($D$4,Mitat!$A$59:$I$109,5,0) -> 221 | I4: =VLOOKUP($D$4,Mitat!$A$59:$I$109,9,0) -> 57 | J4: =VLOOKUP($D$4,Mitat!$A$59:$I$109,7,0) -> 46 | K4: 13
N5: Määrät
F6: Mittaus/hylkäyssyy numero > | G6: 1 | H6: 2 | I6: 3 | J6: 4 | K6: 5 | L6: 6 | N6: =SUM(N8:N99) -> 0 | O6: =SUM(O8:O99) -> 0
A7: Kiekko nro | B7: Kilpailu numero | C7: OMISTAJA: | D7: Mittaajan puumerkki | E7: TUNTOMERKIT: | F7: MATERIAALI: | G7: PAINO g | H7: Halkaisija | I7: Keskiosan halkaisija mm | J7: Keskiosan paksuus mm | K7: Metallikehän paksuus 12-13 mm | L7: Pinta sileä kyllä=1, ei= 0 | M7: Muuta tietoa tai huomautuksia kiekosta: | N7: Kiekko on Hyväksytty merkitse 1 | O7: Kiekko on Hylätty merkitse 1 | P7: Hylkäyssyy NRO | Q7: Hylkäyssyy | R7: MUUN HYLKÄYSSYYN SELITYS: | S7: Tarkastaja NRO | T7: Tarkastaja NIMI | U7: Haku | V7: Sarja | X7: Tarkastavat henkilöt
C8: =IF(B8="","",VLOOKUP(U8,Kilpailijat!$A$12:$E$2015,5,0)) | Q8: =IF(P8="","",VLOOKUP(P8,$AA$9:$AB$15,2,0)) | T8: =IF(S8="","",VLOOKUP(S8,$X$9:$Y$24,2,0)) | U8: =$C$3&$D$4&B8 -> KiekkoM | X8: NRO | Y8: NIMI | AA8: Numero | AB8: Hylkäyssyy
C9: =IF(B9="","",VLOOKUP(U9,Kilpailijat!$A$12:$E$2015,5,0)) | Q9: =IF(P9="","",VLOOKUP(P9,$AA$9:$AB$15,2,0)) | T9: =IF(S9="","",VLOOKUP(S9,$X$9:$Y$24,2,0)) | U9: =$C$3&$D$4&B9 -> KiekkoM | X9: 1 | AA9: 1 | AB9: Paino
C10: =IF(B10="","",VLOOKUP(U10,Kilpailijat!$A$12:$E$2015,5,0)) | Q10: =IF(P10="","",VLOOKUP(P10,$AA$9:$AB$15,2,0)) | T10: =IF(S10="","",VLOOKUP(S10,$X$9:$Y$24,2,0)) | U10: =$C$3&$D$4&B10 -> KiekkoM | X10: 2 | AA10: 2 | AB10: Halkaisia
C11: =IF(B11="","",VLOOKUP(U11,Kilpailijat!$A$12:$E$2015,5,0)) | Q11: =IF(P11="","",VLOOKUP(P11,$AA$9:$AB$15,2,0)) | T11: =IF(S11="","",VLOOKUP(S11,$X$9:$Y$24,2,0)) | U11: =$C$3&$D$4&B11 -> KiekkoM | X11: 3 | AA11: 3 | AB11: Keskiosan halkaisia
C12: =IF(B12="","",VLOOKUP(U12,Kilpailijat!$A$12:$E$2015,5,0)) | Q12: =IF(P12="","",VLOOKUP(P12,$AA$9:$AB$15,2,0)) | T12: =IF(S12="","",VLOOKUP(S12,$X$9:$Y$24,2,0)) | U12: =$C$3&$D$4&B12 -> KiekkoM | X12: 4 | AA12: 4 | AB12: Keskiosan paksuus
C13: =IF(B13="","",VLOOKUP(U13,Kilpailijat!$A$12:$E$2015,5,0)) | Q13: =IF(P13="","",VLOOKUP(P13,$AA$9:$AB$15,2,0)) | T13: =IF(S13="","",VLOOKUP(S13,$X$9:$Y$24,2,0)) | U13: =$C$3&$D$4&B13 -> KiekkoM | X13: 5 | AA13: 5 | AB13: Metallikehän paksuus
C14: =IF(B14="","",VLOOKUP(U14,Kilpailijat!$A$12:$E$2015,5,0)) | Q14: =IF(P14="","",VLOOKUP(P14,$AA$9:$AB$15,2,0)) | T14: =IF(S14="","",VLOOKUP(S14,$X$9:$Y$24,2,0)) | U14: =$C$3&$D$4&B14 -> KiekkoM | X14: 6 | AA14: 6 | AB14: Pinta on sileä
C15: =IF(B15="","",VLOOKUP(U15,Kilpailijat!$A$12:$E$2015,5,0)) | Q15: =IF(P15="","",VLOOKUP(P15,$AA$9:$AB$15,2,0)) | T15: =IF(S15="","",VLOOKUP(S15,$X$9:$Y$24,2,0)) | U15: =$C$3&$D$4&B15 -> KiekkoM | X15: 7 | AA15: 7 | AB15: Muu hylkäyssyy
C16: =IF(B16="","",VLOOKUP(U16,Kilpailijat!$A$12:$E$2015,5,0)) | Q16: =IF(P16="","",VLOOKUP(P16,$AA$9:$AB$15,2,0)) | T16: =IF(S16="","",VLOOKUP(S16,$X$9:$Y$24,2,0)) | U16: =$C$3&$D$4&B16 -> KiekkoM | X16: 8
C17: =IF(B17="","",VLOOKUP(U17,Kilpailijat!$A$12:$E$2015,5,0)) | Q17: =IF(P17="","",VLOOKUP(P17,$AA$9:$AB$15,2,0)) | T17: =IF(S17="","",VLOOKUP(S17,$X$9:$Y$24,2,0)) | U17: =$C$3&$D$4&B17 -> KiekkoM | X17: 9
C18: =IF(B18="","",VLOOKUP(U18,Kilpailijat!$A$12:$E$2015,5,0)) | Q18: =IF(P18="","",VLOOKUP(P18,$AA$9:$AB$15,2,0)) | T18: =IF(S18="","",VLOOKUP(S18,$X$9:$Y$24,2,0)) | U18: =$C$3&$D$4&B18 -> KiekkoM | X18: 10
C19: =IF(B19="","",VLOOKUP(U19,Kilpailijat!$A$12:$E$2015,5,0)) | Q19: =IF(P19="","",VLOOKUP(P19,$AA$9:$AB$15,2,0)) | T19: =IF(S19="","",VLOOKUP(S19,$X$9:$Y$24,2,0)) | U19: =$C$3&$D$4&B19 -> KiekkoM | X19: 11
C20: =IF(B20="","",VLOOKUP(U20,Kilpailijat!$A$12:$E$2015,5,0)) | Q20: =IF(P20="","",VLOOKUP(P20,$AA$9:$AB$15,2,0)) | T20: =IF(S20="","",VLOOKUP(S20,$X$9:$Y$24,2,0)) | U20: =$C$3&$D$4&B20 -> KiekkoM | X20: 12
C21: =IF(B21="","",VLOOKUP(U21,Kilpailijat!$A$12:$E$2015,5,0)) | Q21: =IF(P21="","",VLOOKUP(P21,$AA$9:$AB$15,2,0)) | T21: =IF(S21="","",VLOOKUP(S21,$X$9:$Y$24,2,0)) | U21: =$C$3&$D$4&B21 -> KiekkoM
C22: =IF(B22="","",VLOOKUP(U22,Kilpailijat!$A$12:$E$2015,5,0)) | Q22: =IF(P22="","",VLOOKUP(P22,$AA$9:$AB$15,2,0)) | T22: =IF(S22="","",VLOOKUP(S22,$X$9:$Y$24,2,0)) | U22: =$C$3&$D$4&B22 -> KiekkoM
C23: =IF(B23="","",VLOOKUP(U23,Kilpailijat!$A$12:$E$2015,5,0)) | Q23: =IF(P23="","",VLOOKUP(P23,$AA$9:$AB$15,2,0)) | T23: =IF(S23="","",VLOOKUP(S23,$X$9:$Y$24,2,0)) | U23: =$C$3&$D$4&B23 -> KiekkoM
C24: =IF(B24="","",VLOOKUP(U24,Kilpailijat!$A$12:$E$2015,5,0)) | Q24: =IF(P24="","",VLOOKUP(P24,$AA$9:$AB$15,2,0)) | T24: =IF(S24="","",VLOOKUP(S24,$X$9:$Y$24,2,0)) | U24: =$C$3&$D$4&B24 -> KiekkoM
C25: =IF(B25="","",VLOOKUP(U25,Kilpailijat!$A$12:$E$2015,5,0)) | Q25: =IF(P25="","",VLOOKUP(P25,$AA$9:$AB$15,2,0)) | T25: =IF(S25="","",VLOOKUP(S25,$X$9:$Y$24,2,0)) | U25: =$C$3&$D$4&B25 -> KiekkoM
C26: =IF(B26="","",VLOOKUP(U26,Kilpailijat!$A$12:$E$2015,5,0)) | Q26: =IF(P26="","",VLOOKUP(P26,$AA$9:$AB$15,2,0)) | T26: =IF(S26="","",VLOOKUP(S26,$X$9:$Y$24,2,0)) | U26: =$C$3&$D$4&B26 -> KiekkoM
C27: =IF(B27="","",VLOOKUP(U27,Kilpailijat!$A$12:$E$2015,5,0)) | Q27: =IF(P27="","",VLOOKUP(P27,$AA$9:$AB$15,2,0)) | T27: =IF(S27="","",VLOOKUP(S27,$X$9:$Y$24,2,0)) | U27: =$C$3&$D$4&B27 -> KiekkoM
C28: =IF(B28="","",VLOOKUP(U28,Kilpailijat!$A$12:$E$2015,5,0)) | Q28: =IF(P28="","",VLOOKUP(P28,$AA$9:$AB$15,2,0)) | T28: =IF(S28="","",VLOOKUP(S28,$X$9:$Y$24,2,0)) | U28: =$C$3&$D$4&B28 -> KiekkoM
C29: =IF(B29="","",VLOOKUP(U29,Kilpailijat!$A$12:$E$2015,5,0)) | Q29: =IF(P29="","",VLOOKUP(P29,$AA$9:$AB$15,2,0)) | T29: =IF(S29="","",VLOOKUP(S29,$X$9:$Y$24,2,0)) | U29: =$C$3&$D$4&B29 -> KiekkoM
C30: =IF(B30="","",VLOOKUP(U30,Kilpailijat!$A$12:$E$2015,5,0)) | Q30: =IF(P30="","",VLOOKUP(P30,$AA$9:$AB$15,2,0)) | T30: =IF(S30="","",VLOOKUP(S30,$X$9:$Y$24,2,0)) | U30: =$C$3&$D$4&B30 -> KiekkoM
C31: =IF(B31="","",VLOOKUP(U31,Kilpailijat!$A$12:$E$2015,5,0)) | Q31: =IF(P31="","",VLOOKUP(P31,$AA$9:$AB$15,2,0)) | T31: =IF(S31="","",VLOOKUP(S31,$X$9:$Y$24,2,0)) | U31: =$C$3&$D$4&B31 -> KiekkoM
C32: =IF(B32="","",VLOOKUP(U32,Kilpailijat!$A$12:$E$2015,5,0)) | Q32: =IF(P32="","",VLOOKUP(P32,$AA$9:$AB$15,2,0)) | T32: =IF(S32="","",VLOOKUP(S32,$X$9:$Y$24,2,0)) | U32: =$C$3&$D$4&B32 -> KiekkoM
... C107: =IF(B107="","",VLOOKUP(U107,Kilpailijat!$A$12:$E$2015,5,0)) | Q107: =IF(P107="","",VLOOKUP(P107,$AA$9:$AB$15,2,0)) | T107: =IF(S107="","",VLOOKUP(S107,$X$9:$Y$24,2,0)) | U107: =$C$3&$D$4&B107 -> KiekkoM

Sheet DisKiekPK
A1: Kilpailutapahtuma: | B1: =Kilpailijat!$C$1 -> 0
A2: KIEKON MITTAUSPÖYTÄKIRJA: | G2: Ohjeet
A3: KIEKKO NRO | F3: 1 | G3: Paino
A4: MITTAAJAN PUUMERKKI KIEKOSSA: | C4: =IF($B$3="","",VLOOKUP($B$3,DisKie!$A$7:$T$150,4,0)) | F4: 2 | G4: Halkaisia
A5: KIEKON TUNTOMERKIT: | C5: =IF($B$3="","",VLOOKUP($B$3,DisKie!$A$7:$T$150,5,0)) | F5: 3 | G5: Keskiosan halkaisia
A6: KIEKON MATERIAALI: | C6: =IF($B$3="","",VLOOKUP($B$3,DisKie!$A$7:$T$150,6,0)) | F6: 4 | G6: Keskiosan paksuus
A7: KIEKON OMISTAJA: | C7: =IF($B$3="","",VLOOKUP($B$3,DisKie!$A$7:$T$150,3,0)) | F7: 5 | G7: Metallikehän paksuus
B8: MINIMIARVO | C8: MITTAUSTULOS | D8: MAKSIMIARVO | F8: 6 | G8: Pinta ei ole sileä
A9: Paino | B9: =DisKie!G3 -> 2000 | C9: =IF($B$3="","",VLOOKUP($B$3,DisKie!$A$7:$T$150,7,0)) | F9: 7 | G9: Muu
A10: Halkaisia | B10: =DisKie!H3 -> 219 | C10: =IF($B$3="","",VLOOKUP($B$3,DisKie!$A$7:$T$150,8,0)) | D10: =DisKie!H4 -> 221
A11: Keskiosan halkaisia | B11: =DisKie!I3 -> 50 | C11: =IF($B$3="","",VLOOKUP($B$3,DisKie!$A$7:$T$150,9,0)) | D11: =DisKie!I4 -> 57
A12: Keskiosan paksuus | B12: =DisKie!J3 -> 44 | C12: =IF($B$3="","",VLOOKUP($B$3,DisKie!$A$7:$T$150,10,0)) | D12: =DisKie!J4 -> 46
A13: Metallikehän paksuus | B13: =DisKie!K3 -> 12 | C13: =IF($B$3="","",VLOOKUP($B$3,DisKie!$A$7:$T$150,11,0)) | D13: =DisKie!K4 -> 13
A14: Pinta on sileä | B14: (Kyllä=1 Ei=0) | C14: =IF($B$3="","",VLOOKUP($B$3,DisKie!$A$7:$T$150,12,0))
A15: Muuta tietoa tai huomautuksia kiekosta:
A16: =IF($B$3="","",VLOOKUP($B$3,DisKie!$A$8:$T$150,13,0))
A22: KIEKKO ON | B22: Hyväksytty | C22: =IF($B$3="","",VLOOKUP($B$3,DisKie!$A$7:$T$150,14,0))
B23: Hyvlätty | C23: =IF($B$3="","",VLOOKUP($B$3,DisKie!$A$7:$T$150,15,0))
A24: HYLKÄYKSEN SYY ON | B24: =IF($B$3="","",VLOOKUP($B$3,DisKie!$A$7:$T$150,17,0))
A26: MUUN HYLKÄYSSYYN SELITYS:
A27: =IF($B$3="","",VLOOKUP($B$3,DisKie!$A$7:$T$150,18,0))
A34: Tarkastuksen suoritti
A35: Nimen selvennys: | B35: =IF($B$3="","",VLOOKUP($B$3,DisKie!$A$7:$T$150,20,0))
A37: Tarkistuspäivämäärä: | B37: =IF(C37<>"","",NOW()) -> 45751.599

Sheet HamMou
D1: Kilpailutapahtuma: | E1: =Kilpailijat!$C$1 -> 0
A2: MOUKARIN MITTAUSPÖYTÄKIRJA: | F2: Ohjeet
C3: Moukari | F3: Minimi > | G3: =VLOOKUP($D$4,Mitat!$A$112:$G$163,2,0) -> 7260 | H3: =VLOOKUP($D$4,Mitat!$A$112:$G$163,5,0) -> 110 | I3: =VLOOKUP($D$4,Mitat!$A$112:$H$163,8,0) -> 0 | J3: 3 | V3: =D4 -> M
C4: Sarja | D4: M | F4: Maksimi > | H4: =VLOOKUP($D$4,Mitat!$A$112:$G$163,6,0) -> 130 | I4: =VLOOKUP($D$4,Mitat!$A$112:$G$163,7,0) -> 1215 | N4: Määrät
F5: Mittaus/hylkäyssyy numero > | G5: 1 | H5: 2 | I5: 3 | J5: 4 | L5: 6 | N5: =SUM(HamMou!$N$7:$N$56) -> 0 | O5: =SUM(HamMou!$O$7:$O$56) -> 0 | X5: Tarkastavat henkilöt
A6: Moukari nro | B6: Kilp. Numero | C6: OMISTAJA: | D6: Mittaajan puumerkki | E6: Tuntomerkit | F6: Materiaali | G6: Paino g | H6: Halkaisija mm | I6: Välineen pituus mm | J6: Vaijerin paksuus mm | L6: Painopiste metallipään keskellä 1=kyllä 0=ei | M6: Muuta tietoa tai huomautuksia moukarista: | N6: Moukari Hyväksytty merkitse 1 | O6: Moukari Hylätty merkitse 1 | P6: Hylkäys Syy NRO | Q6: Hylkäyksen syy | R6: MUUN HYLKÄYSSYYN SELITYS: | S6: Tarkast NRO | T6: Tarkastajan nimi | U6: Haku | V6: Sarja | X6: NRO | Y6: NIMI | AA6: Numero | AB6: Hylkäyssyy
A7: 1 | C7: =IF(B7="","",VLOOKUP(U7,Kilpailijat!$A$11:$E$2015,5,0)) | Q7: =IF(P7="","",VLOOKUP(P7,$AA$7:$AB$13,2,0)) | T7: =IF(S7="","",VLOOKUP(S7,$X$7:$Y$22,2,0)) | U7: =$C$3&$D$4&B7 -> MoukariM | X7: 1 | Y7: a | AA7: 1 | AB7: Paino
C8: =IF(B8="","",VLOOKUP(U8,Kilpailijat!$A$11:$E$2015,5,0)) | Q8: =IF(P8="","",VLOOKUP(P8,$AA$7:$AB$13,2,0)) | T8: =IF(S8="","",VLOOKUP(S8,$X$7:$Y$22,2,0)) | U8: =$C$3&$D$4&B8 -> MoukariM | X8: 2 | AA8: 2 | AB8: Halkaisija
C9: =IF(B9="","",VLOOKUP(U9,Kilpailijat!$A$11:$E$2015,5,0)) | Q9: =IF(P9="","",VLOOKUP(P9,$AA$7:$AB$13,2,0)) | T9: =IF(S9="","",VLOOKUP(S9,$X$7:$Y$22,2,0)) | U9: =$C$3&$D$4&B9 -> MoukariM | X9: 3 | AA9: 3 | AB9: Välineen pituus
C10: =IF(B10="","",VLOOKUP(U10,Kilpailijat!$A$11:$E$2015,5,0)) | Q10: =IF(P10="","",VLOOKUP(P10,$AA$7:$AB$13,2,0)) | T10: =IF(S10="","",VLOOKUP(S10,$X$7:$Y$22,2,0)) | U10: =$C$3&$D$4&B10 -> MoukariM | X10: 4 | AA10: 4 | AB10: Vaijerin paksuus
C11: =IF(B11="","",VLOOKUP(U11,Kilpailijat!$A$11:$E$2015,5,0)) | Q11: =IF(P11="","",VLOOKUP(P11,$AA$7:$AB$13,2,0)) | T11: =IF(S11="","",VLOOKUP(S11,$X$7:$Y$22,2,0)) | U11: =$C$3&$D$4&B11 -> MoukariM | X11: 5 | AA11: 5 | AB11: Kahvan säde
C12: =IF(B12="","",VLOOKUP(U12,Kilpailijat!$A$11:$E$2015,5,0)) | Q12: =IF(P12="","",VLOOKUP(P12,$AA$7:$AB$13,2,0)) | T12: =IF(S12="","",VLOOKUP(S12,$X$7:$Y$22,2,0)) | U12: =$C$3&$D$4&B12 -> MoukariM | X12: 6 | AA12: 6 | AB12: Painopiste ei metallipään keskellä
C13: =IF(B13="","",VLOOKUP(U13,Kilpailijat!$A$11:$E$2015,5,0)) | Q13: =IF(P13="","",VLOOKUP(P13,$AA$7:$AB$13,2,0)) | T13: =IF(S13="","",VLOOKUP(S13,$X$7:$Y$22,2,0)) | U13: =$C$3&$D$4&B13 -> MoukariM | X13: 7 | AA13: 7 | AB13: MUU
C14: =IF(B14="","",VLOOKUP(U14,Kilpailijat!$A$11:$E$2015,5,0)) | Q14: =IF(P14="","",VLOOKUP(P14,$AA$7:$AB$13,2,0)) | T14: =IF(S14="","",VLOOKUP(S14,$X$7:$Y$22,2,0)) | U14: =$C$3&$D$4&B14 -> MoukariM | X14: 8
C15: =IF(B15="","",VLOOKUP(U15,Kilpailijat!$A$11:$E$2015,5,0)) | Q15: =IF(P15="","",VLOOKUP(P15,$AA$7:$AB$13,2,0)) | T15: =IF(S15="","",VLOOKUP(S15,$X$7:$Y$22,2,0)) | U15: =$C$3&$D$4&B15 -> MoukariM | X15: 9
C16: =IF(B16="","",VLOOKUP(U16,Kilpailijat!$A$11:$E$2015,5,0)) | Q16: =IF(P16="","",VLOOKUP(P16,$AA$7:$AB$13,2,0)) | T16: =IF(S16="","",VLOOKUP(S16,$X$7:$Y$22,2,0)) | U16: =$C$3&$D$4&B16 -> MoukariM | X16: 10
C17: =IF(B17="","",VLOOKUP(U17,Kilpailijat!$A$11:$E$2015,5,0)) | Q17: =IF(P17="","",VLOOKUP(P17,$AA$7:$AB$13,2,0)) | T17: =IF(S17="","",VLOOKUP(S17,$X$7:$Y$22,2,0)) | U17: =$C$3&$D$4&B17 -> MoukariM | X17: 11
C18: =IF(B18="","",VLOOKUP(U18,Kilpailijat!$A$11:$E$2015,5,0)) | Q18: =IF(P18="","",VLOOKUP(P18,$AA$7:$AB$13,2,0)) | T18: =IF(S18="","",VLOOKUP(S18,$X$7:$Y$22,2,0)) | U18: =$C$3&$D$4&B18 -> MoukariM | X18: 12
C19: =IF(B19="","",VLOOKUP(U19,Kilpailijat!$A$11:$E$2015,5,0)) | Q19: =IF(P19="","",VLOOKUP(P19,$AA$7:$AB$13,2,0)) | T19: =IF(S19="","",VLOOKUP(S19,$X$7:$Y$22,2,0)) | U19: =$C$3&$D$4&B19 -> MoukariM
C20: =IF(B20="","",VLOOKUP(U20,Kilpailijat!$A$11:$E$2015,5,0)) | Q20: =IF(P20="","",VLOOKUP(P20,$AA$7:$AB$13,2,0)) | T20: =IF(S20="","",VLOOKUP(S20,$X$7:$Y$22,2,0)) | U20: =$C$3&$D$4&B20 -> MoukariM
C21: =IF(B21="","",VLOOKUP(U21,Kilpailijat!$A$11:$E$2015,5,0)) | Q21: =IF(P21="","",VLOOKUP(P21,$AA$7:$AB$13,2,0)) | T21: =IF(S21="","",VLOOKUP(S21,$X$7:$Y$22,2,0)) | U21: =$C$3&$D$4&B21 -> MoukariM
C22: =IF(B22="","",VLOOKUP(U22,Kilpailijat!$A$11:$E$2015,5,0)) | Q22: =IF(P22="","",VLOOKUP(P22,$AA$7:$AB$13,2,0)) | T22: =IF(S22="","",VLOOKUP(S22,$X$7:$Y$22,2,0)) | U22: =$C$3&$D$4&B22 -> MoukariM
C23: =IF(B23="","",VLOOKUP(U23,Kilpailijat!$A$11:$E$2015,5,0)) | Q23: =IF(P23="","",VLOOKUP(P23,$AA$7:$AB$13,2,0)) | T23: =IF(S23="","",VLOOKUP(S23,$X$7:$Y$22,2,0)) | U23: =$C$3&$D$4&B23 -> MoukariM
C24: =IF(B24="","",VLOOKUP(U24,Kilpailijat!$A$11:$E$2015,5,0)) | Q24: =IF(P24="","",VLOOKUP(P24,$AA$7:$AB$13,2,0)) | T24: =IF(S24="","",VLOOKUP(S24,$X$7:$Y$22,2,0)) | U24: =$C$3&$D$4&B24 -> MoukariM
C25: =IF(B25="","",VLOOKUP(U25,Kilpailijat!$A$11:$E$2015,5,0)) | Q25: =IF(P25="","",VLOOKUP(P25,$AA$7:$AB$13,2,0)) | T25: =IF(S25="","",VLOOKUP(S25,$X$7:$Y$22,2,0)) | U25: =$C$3&$D$4&B25 -> MoukariM
C26: =IF(B26="","",VLOOKUP(U26,Kilpailijat!$A$11:$E$2015,5,0)) | Q26: =IF(P26="","",VLOOKUP(P26,$AA$7:$AB$13,2,0)) | T26: =IF(S26="","",VLOOKUP(S26,$X$7:$Y$22,2,0)) | U26: =$C$3&$D$4&B26 -> MoukariM
C27: =IF(B27="","",VLOOKUP(U27,Kilpailijat!$A$11:$E$2015,5,0)) | Q27: =IF(P27="","",VLOOKUP(P27,$AA$7:$AB$13,2,0)) | T27: =IF(S27="","",VLOOKUP(S27,$X$7:$Y$22,2,0)) | U27: =$C$3&$D$4&B27 -> MoukariM
C28: =IF(B28="","",VLOOKUP(U28,Kilpailijat!$A$11:$E$2015,5,0)) | Q28: =IF(P28="","",VLOOKUP(P28,$AA$7:$AB$13,2,0)) | T28: =IF(S28="","",VLOOKUP(S28,$X$7:$Y$22,2,0)) | U28: =$C$3&$D$4&B28 -> MoukariM
C29: =IF(B29="","",VLOOKUP(U29,Kilpailijat!$A$11:$E$2015,5,0)) | Q29: =IF(P29="","",VLOOKUP(P29,$AA$7:$AB$13,2,0)) | T29: =IF(S29="","",VLOOKUP(S29,$X$7:$Y$22,2,0)) | U29: =$C$3&$D$4&B29 -> MoukariM
C30: =IF(B30="","",VLOOKUP(U30,Kilpailijat!$A$11:$E$2015,5,0)) | Q30: =IF(P30="","",VLOOKUP(P30,$AA$7:$AB$13,2,0)) | T30: =IF(S30="","",VLOOKUP(S30,$X$7:$Y$22,2,0)) | U30: =$C$3&$D$4&B30 -> MoukariM
... C106: =IF(B106="","",VLOOKUP(U106,Kilpailijat!$A$11:$E$2015,5,0)) | Q106: =IF(P106="","",VLOOKUP(P106,$AA$7:$AB$13,2,0)) | T106: =IF(S106="","",VLOOKUP(S106,$X$7:$Y$22,2,0)) | U106: =$C$3&$D$4&B106 -> MoukariM

Sheet HamMouPK
A1: Kilpailutapahtuma: | B1: =Kilpailijat!$C$1 -> 0
A2: MOUKARIN MITTAUSPÖYTÄKIRJA: | G2: Ohjeet
A3: MOUKARI NRO | B3: 1 | F3: 1 | G3: Paino
A4: MITTAAJAN PUUMERKKI MOUKARISSA: | C4: =IF($B$3="","",VLOOKUP($B$3,HamMou!$A$7:$S$99,4,0)) -> 0 | F4: 2 | G4: Halkaisija
A5: MOUKARIN TUNTOMERKIT: | C5: =IF($B$3="","",VLOOKUP($B$3,HamMou!$A$7:$S$99,5,0)) -> 0 | F5: 3 | G5: Välineen pituus
A6: MOUKARIN MATERIAALI: | C6: =IF($B$3="","",VLOOKUP($B$3,HamMou!$A$7:$S$99,6,0)) -> 0 | F6: 4 | G6: Vaijerin paksuus
A7: MOUKARIN OMISTAJA: | C7: =IF($B$3="","",VLOOKUP($B$3,HamMou!$A$7:$S$99,3,0)) | F7: 5 | G7: Kahvan säde
B8: MINIMIARVO | C8: MITTAUSTULOS | D8: MAKSIMIARVO | F8: 6 | G8: Painopiste ei ole metallipään keskellä
A9: Paino | B9: =HamMou!G3 -> 7260 | C9: =IF($B$3="","",VLOOKUP($B$3,HamMou!$A$7:$S$99,7,0)) -> 0 | F9: 7 | G9: MUU
A10: Halkaisija | B10: =HamMou!H3 -> 110 | C10: =IF($B$3="","",VLOOKUP($B$3,HamMou!$A$7:$S$99,8,0)) -> 0 | D10: =HamMou!H4 -> 130
A11: Välineen pituus | C11: =IF($B$3="","",VLOOKUP($B$3,HamMou!$A$7:$S$99,9,0)) -> 0 | D11: =HamMou!I4 -> 1215
A12: Vaijerin paksuus | B12: =HamMou!J3 -> 3 | C12: =IF($B$3="","",VLOOKUP($B$3,HamMou!$A$7:$S$99,10,0)) -> 0
A13: Painopiste metallipään keskellä | B13: (Kyllä=1 Ei=0) | C13: =IF($B$3="","",VLOOKUP($B$3,HamMou!$A$7:$S$99,12,0)) -> 0
A14: Muuta tietoa tai huomautuksia moukarista:
A15: =IF($B$3="","",VLOOKUP($B$3,HamMou!$A$7:$S$99,13,0)) -> 0
A20: MOUKARI ON | B20: Hyväksytty | C20: =IF($B$3="","",VLOOKUP($B$3,HamMou!$A$7:$S$99,14,0)) -> 0
B21: Hyvlätty | C21: =IF($B$3="","",VLOOKUP($B$3,HamMou!$A$7:$S$99,15,0)) -> 0
A22: HYLKÄYKSEN SYY ON | B22: =IF($B$3="","",VLOOKUP($B$3,HamMou!$A$7:$S$99,17,0))
A24: MUUN HYLKÄYSSYYN SELITYS:
A25: =IF($B$3="","",VLOOKUP($B$3,HamMou!$A$7:$S$99,18,0)) -> 0
A32: Tarkastuksen suoritti
A33: Nimen selvennys: | B33: =IF($B$3="","",VLOOKUP($B$3,HamMou!$A$7:$T$99,20,0))
A35: Tarkistuspäivämäärä: | B35: =IF(C35<>"","",NOW()) -> 45751.599

Sheet ShotpKuu
D1: Kilpailutapahtuma: | E1: =Kilpailijat!$C$1 -> 0
A2: KUULAN MITTAUSPÖYTÄKIRJA: | M2: Ohjeet
B4: Kuula | C4: Sarja | D4: M | F4: Maksimi | G4: =VLOOKUP(ShotpKuu!$D$4,Mitat!$A$5:$E$56,2,0) -> 7260 | H4: =VLOOKUP(ShotpKuu!$D$4,Mitat!$A$5:$E$56,5,0) -> 130 | S4: =D4 -> M
F5: Minimi | H5: =VLOOKUP(ShotpKuu!$D$4,Mitat!$A$5:$E$56,4,0) -> 110
F6: Mittaus/hylkäyssyy numero > | G6: 1 | H6: 2 | I6: 3 | K6: =SUM(K8:K103) -> 0 | L6: =SUM(L8:L103) -> 0 | U6: Tarkastavat henkilöt
A7: Kuula nro | B7: Kilpail. Nro | C7: Omistaja | D7: Mittaajan puumerkki | E7: Tuntomerkit | F7: Materiaali | G7: Paino min g | H7: Halkaisija mm | I7: Pinta sileä kyllä=1, ei= 0 | J7: Muuta tietoa tai huomautuksia kuulasta | K7: Kuula hyväksytty merkitse 1 | L7: Kuula hylätty merkitse 1 | M7: Hylk. Syy nro | N7: Hylkäyksen syy | O7: Muun hylkäyssyyn selitys | P7: Tark. Nro | Q7: Tarkastajan nimi | R7: Haku | S7: Sarja | U7: NRO | V7: NIMI | X7: Numero | Y7: Hylkäyssyy
C8: =IF(B8="","",VLOOKUP(R8,Kilpailijat!$A$11:$E$2015,5,0)) | N8: =IF(M8="","",VLOOKUP(M8,$X$8:$Y$14,2,0)) | Q8: =IF(P8="","",VLOOKUP(P8,$U$8:$V$23,2,0)) | R8: =$B$4&$D$4&B8 -> KuulaM | U8: 1 | X8: 1 | Y8: Paino
C9: =IF(B9="","",VLOOKUP(R9,Kilpailijat!$A$11:$E$2015,5,0)) | N9: =IF(M9="","",VLOOKUP(M9,$X$8:$Y$14,2,0)) | Q9: =IF(P9="","",VLOOKUP(P9,$U$8:$V$23,2,0)) | R9: =$B$4&$D$4&B9 -> KuulaM | U9: 2 | X9: 2 | Y9: Halkaisija
C10: =IF(B10="","",VLOOKUP(R10,Kilpailijat!$A$11:$E$2015,5,0)) | N10: =IF(M10="","",VLOOKUP(M10,$X$8:$Y$14,2,0)) | Q10: =IF(P10="","",VLOOKUP(P10,$U$8:$V$23,2,0)) | R10: =$B$4&$D$4&B10 -> KuulaM | U10: 3 | X10: 3 | Y10: Pinta ei sileä
C11: =IF(B11="","",VLOOKUP(R11,Kilpailijat!$A$11:$E$2015,5,0)) | N11: =IF(M11="","",VLOOKUP(M11,$X$8:$Y$14,2,0)) | Q11: =IF(P11="","",VLOOKUP(P11,$U$8:$V$23,2,0)) | R11: =$B$4&$D$4&B11 -> KuulaM | U11: 4 | X11: 4 | Y11: Muu
C12: =IF(B12="","",VLOOKUP(R12,Kilpailijat!$A$11:$E$2015,5,0)) | N12: =IF(M12="","",VLOOKUP(M12,$X$8:$Y$14,2,0)) | Q12: =IF(P12="","",VLOOKUP(P12,$U$8:$V$23,2,0)) | R12: =$B$4&$D$4&B12 -> KuulaM | U12: 5
C13: =IF(B13="","",VLOOKUP(R13,Kilpailijat!$A$11:$E$2015,5,0)) | N13: =IF(M13="","",VLOOKUP(M13,$X$8:$Y$14,2,0)) | Q13: =IF(P13="","",VLOOKUP(P13,$U$8:$V$23,2,0)) | R13: =$B$4&$D$4&B13 -> KuulaM | U13: 6
C14: =IF(B14="","",VLOOKUP(R14,Kilpailijat!$A$11:$E$2015,5,0)) | N14: =IF(M14="","",VLOOKUP(M14,$X$8:$Y$14,2,0)) | Q14: =IF(P14="","",VLOOKUP(P14,$U$8:$V$23,2,0)) | R14: =$B$4&$D$4&B14 -> KuulaM | U14: 7
C15: =IF(B15="","",VLOOKUP(R15,Kilpailijat!$A$11:$E$2015,5,0)) | N15: =IF(M15="","",VLOOKUP(M15,$X$8:$Y$14,2,0)) | Q15: =IF(P15="","",VLOOKUP(P15,$U$8:$V$23,2,0)) | R15: =$B$4&$D$4&B15 -> KuulaM | U15: 8
C16: =IF(B16="","",VLOOKUP(R16,Kilpailijat!$A$11:$E$2015,5,0)) | N16: =IF(M16="","",VLOOKUP(M16,$X$8:$Y$14,2,0)) | Q16: =IF(P16="","",VLOOKUP(P16,$U$8:$V$23,2,0)) | R16: =$B$4&$D$4&B16 -> KuulaM | U16: 9
C17: =IF(B17="","",VLOOKUP(R17,Kilpailijat!$A$11:$E$2015,5,0)) | N17: =IF(M17="","",VLOOKUP(M17,$X$8:$Y$14,2,0)) | Q17: =IF(P17="","",VLOOKUP(P17,$U$8:$V$23,2,0)) | R17: =$B$4&$D$4&B17 -> KuulaM | U17: 10
C18: =IF(B18="","",VLOOKUP(R18,Kilpailijat!$A$11:$E$2015,5,0)) | N18: =IF(M18="","",VLOOKUP(M18,$X$8:$Y$14,2,0)) | Q18: =IF(P18="","",VLOOKUP(P18,$U$8:$V$23,2,0)) | R18: =$B$4&$D$4&B18 -> KuulaM | U18: 11
C19: =IF(B19="","",VLOOKUP(R19,Kilpailijat!$A$11:$E$2015,5,0)) | N19: =IF(M19="","",VLOOKUP(M19,$X$8:$Y$14,2,0)) | Q19: =IF(P19="","",VLOOKUP(P19,$U$8:$V$23,2,0)) | R19: =$B$4&$D$4&B19 -> KuulaM | U19: 12
C20: =IF(B20="","",VLOOKUP(R20,Kilpailijat!$A$11:$E$2015,5,0)) | N20: =IF(M20="","",VLOOKUP(M20,$X$8:$Y$14,2,0)) | Q20: =IF(P20="","",VLOOKUP(P20,$U$8:$V$23,2,0)) | R20: =$B$4&$D$4&B20 -> KuulaM
C21: =IF(B21="","",VLOOKUP(R21,Kilpailijat!$A$11:$E$2015,5,0)) | N21: =IF(M21="","",VLOOKUP(M21,$X$8:$Y$14,2,0)) | Q21: =IF(P21="","",VLOOKUP(P21,$U$8:$V$23,2,0)) | R21: =$B$4&$D$4&B21 -> KuulaM
C22: =IF(B22="","",VLOOKUP(R22,Kilpailijat!$A$11:$E$2015,5,0)) | N22: =IF(M22="","",VLOOKUP(M22,$X$8:$Y$14,2,0)) | Q22: =IF(P22="","",VLOOKUP(P22,$U$8:$V$23,2,0)) | R22: =$B$4&$D$4&B22 -> KuulaM
C23: =IF(B23="","",VLOOKUP(R23,Kilpailijat!$A$11:$E$2015,5,0)) | N23: =IF(M23="","",VLOOKUP(M23,$X$8:$Y$14,2,0)) | Q23: =IF(P23="","",VLOOKUP(P23,$U$8:$V$23,2,0)) | R23: =$B$4&$D$4&B23 -> KuulaM
C24: =IF(B24="","",VLOOKUP(R24,Kilpailijat!$A$11:$E$2015,5,0)) | N24: =IF(M24="","",VLOOKUP(M24,$X$8:$Y$14,2,0)) | Q24: =IF(P24="","",VLOOKUP(P24,$U$8:$V$23,2,0)) | R24: =$B$4&$D$4&B24 -> KuulaM
C25: =IF(B25="","",VLOOKUP(R25,Kilpailijat!$A$11:$E$2015,5,0)) | N25: =IF(M25="","",VLOOKUP(M25,$X$8:$Y$14,2,0)) | Q25: =IF(P25="","",VLOOKUP(P25,$U$8:$V$23,2,0)) | R25: =$B$4&$D$4&B25 -> KuulaM
C26: =IF(B26="","",VLOOKUP(R26,Kilpailijat!$A$11:$E$2015,5,0)) | N26: =IF(M26="","",VLOOKUP(M26,$X$8:$Y$14,2,0)) | Q26: =IF(P26="","",VLOOKUP(P26,$U$8:$V$23,2,0)) | R26: =$B$4&$D$4&B26 -> KuulaM
C27: =IF(B27="","",VLOOKUP(R27,Kilpailijat!$A$11:$E$2015,5,0)) | N27: =IF(M27="","",VLOOKUP(M27,$X$8:$Y$14,2,0)) | Q27: =IF(P27="","",VLOOKUP(P27,$U$8:$V$23,2,0)) | R27: =$B$4&$D$4&B27 -> KuulaM
C28: =IF(B28="","",VLOOKUP(R28,Kilpailijat!$A$11:$E$2015,5,0)) | N28: =IF(M28="","",VLOOKUP(M28,$X$8:$Y$14,2,0)) | Q28: =IF(P28="","",VLOOKUP(P28,$U$8:$V$23,2,0)) | R28: =$B$4&$D$4&B28 -> KuulaM
C29: =IF(B29="","",VLOOKUP(R29,Kilpailijat!$A$11:$E$2015,5,0)) | N29: =IF(M29="","",VLOOKUP(M29,$X$8:$Y$14,2,0)) | Q29: =IF(P29="","",VLOOKUP(P29,$U$8:$V$23,2,0)) | R29: =$B$4&$D$4&B29 -> KuulaM
C30: =IF(B30="","",VLOOKUP(R30,Kilpailijat!$A$11:$E$2015,5,0)) | N30: =IF(M30="","",VLOOKUP(M30,$X$8:$Y$14,2,0)) | Q30: =IF(P30="","",VLOOKUP(P30,$U$8:$V$23,2,0)) | R30: =$B$4&$D$4&B30 -> KuulaM
C31: =IF(B31="","",VLOOKUP(R31,Kilpailijat!$A$11:$E$2015,5,0)) | N31: =IF(M31="","",VLOOKUP(M31,$X$8:$Y$14,2,0)) | Q31: =IF(P31="","",VLOOKUP(P31,$U$8:$V$23,2,0)) | R31: =$B$4&$D$4&B31 -> KuulaM
... C106: =IF(B106="","",VLOOKUP(R106,Kilpailijat!$A$11:$E$2015,5,0)) | N106: =IF(M106="","",VLOOKUP(M106,$X$8:$Y$14,2,0)) | Q106: =IF(P106="","",VLOOKUP(P106,$U$8:$V$23,2,0)) | R106: =$B$4&$D$4&B106 -> KuulaM

Sheet ShotpKuuPK
A1: Kilpailutapahtuma: | B1: =Kilpailijat!$C$1 -> 0
A2: KUULAN MITTAUSPÖYTÄKIRJA: | G2: Ohjeet
A3: KUULA NUMERO | F3: 1 | G3: Paino
A4: MITTAAJAN PUUMERKKI KUULASSA: | C4: =IF($B$3="","",VLOOKUP($B$3,ShotpKuu!$A$8:$X$120,4,0)) | F4: 2 | G4: Halkaisia
A5: KUULAN TUNTOMERKIT: | C5: =IF($B$3="","",VLOOKUP($B$3,ShotpKuu!$A$8:$X$120,5,0)) | F5: 3 | G5: Pinnan sileys
A6: KUULAN MATERIAALI: | C6: =IF($B$3="","",VLOOKUP($B$3,ShotpKuu!$A$8:$X$120,6,0)) | F6: 4 | G6: Muu
A7: KUULAN OMISTAJA: | C7: =IF($B$3="","",VLOOKUP($B$3,ShotpKuu!$A$8:$X$120,3,0))
B8: MINIMIARVO | C8: MITTAUSTULOS | D8: MAKSIMIARVO
A9: Paino | B9: =ShotpKuu!G4 -> 7260 | C9: =IF($B$3="","",VLOOKUP($B$3,ShotpKuu!$A$8:$X$120,7,0))
A10: Halkaisia | B10: =ShotpKuu!H5 -> 110 | C10: =IF($B$3="","",VLOOKUP($B$3,ShotpKuu!$A$8:$X$120,8,0)) | D10: =ShotpKuu!H4 -> 130
A11: Pinta on sileä | B11: (Kyllä=1 Ei=0) | C11: =IF($B$3="","",VLOOKUP($B$3,ShotpKuu!$A$8:$X$120,9,0))
A12: Muuta tietoa tai huomautuksia kuulassa:
A13: =IF($B$3="","",VLOOKUP($B$3,ShotpKuu!$A$8:$X$120,10,0))
A18: KUULA ON | B18: Hyväksytty | C18: =IF($B$3="","",VLOOKUP($B$3,ShotpKuu!$A$8:$X$120,11,0))
B19: Hyvlätty | C19: =IF($B$3="","",VLOOKUP($B$3,ShotpKuu!$A$8:$X$120,12,0))
A20: HYLKÄYKSEN SYY ON | B20: =IF($B$3="","",VLOOKUP($B$3,ShotpKuu!$A$8:$X$120,14,0))
A22: MUUN HYLKÄYSSYYN SELITYS:
A23: =IF($B$3="","",VLOOKUP($B$3,ShotpKuu!$A$8:$X$120,15,0))
A30: Tarkastuksen suoritti
A31: Nimen selvennys: | B31: =IF($B$3="","",VLOOKUP($B$3,ShotpKuu!$A$8:$X$120,17,0))
A33: Tarkistuspäivämäärä: | B33: =IF(C33<>"","",NOW()) -> 45751.599

Sheet WeiPain
D1: Kilpailutapahtuma: | E1: =Kilpailijat!$C$1 -> 0
A2: PAINONHEITON MITTAUSPÖYTÄKIRJA: | F2: Ohjeet
C3: Paino | F3: Minimi | G3: =VLOOKUP($D$4,Mitat!$A$224:$G$285,2,0) -> 15.88 | H3: =VLOOKUP($D$4,Mitat!$A$224:$G$285,5,0) -> 145 | L3: Määrät
C4: Sarja | D4: M30 | F4: Maksimi | H4: =VLOOKUP($D$4,Mitat!$A$224:$G$285,6,0) -> 165 | I4: =VLOOKUP($D$4,Mitat!$A$224:$G$285,7,0) -> 410 | T4: =D4 -> M30
F5: Mittaus/hylkäyssyy numero > | G5: 1 | H5: 2 | I5: 3 | J5: 4 | L5: =SUM(WeiPain!$L$7:$L$56) -> 0 | M5: =SUM(WeiPain!$M$7:$M$56) -> 0 | V5: Tarkastavat henkilöt
A6: Paino nro | B6: Kilp. Numero | C6: OMISTAJA: | D6: Mittaajan puumerkki | E6: Tuntomerkit | F6: Materiaali | G6: Paino kg | H6: Halkaisija mm | I6: Välineen pituus mm | J6: Painopiste metallipään keskellä Kyllä=1, ei=0 | K6: Muuta tietoa tai huomautuksia painosta: | L6: Paino Hyväksytty merkitse 1 | M6: Paino Hylätty merkitse 1 | N6: Hylkäys Syy NRO | O6: Hylkäyksen syy | P6: MUUN HYLKÄYSSYYN SELITYS: | Q6: Tarkast NRO | R6: Tarkastajan nimi | S6: Haku | T6: Sarja | V6: NRO | W6: NIMI | Y6: Numero | Z6: Hylkäyssyy
C7: =IF(B7="","",VLOOKUP(S7,Kilpailijat!$A$11:$E$2015,5,0)) | O7: =IF(N7="","",VLOOKUP(N7,$Y$7:$Z$11,2,0)) | R7: =IF(Q7="","",VLOOKUP(Q7,$V$7:$W$22,2,0)) | S7: =$C$3&$D$4&B7 -> PainoM30 | V7: 1 | Y7: 1 | Z7: Paino
C8: =IF(B8="","",VLOOKUP(S8,Kilpailijat!$A$11:$E$2015,5,0)) | O8: =IF(N8="","",VLOOKUP(N8,$Y$7:$Z$11,2,0)) | R8: =IF(Q8="","",VLOOKUP(Q8,$V$7:$W$22,2,0)) | S8: =$C$3&$D$4&B8 -> PainoM30 | V8: 2 | Y8: 2 | Z8: Halkaisija
C9: =IF(B9="","",VLOOKUP(S9,Kilpailijat!$A$11:$E$2015,5,0)) | O9: =IF(N9="","",VLOOKUP(N9,$Y$7:$Z$11,2,0)) | R9: =IF(Q9="","",VLOOKUP(Q9,$V$7:$W$22,2,0)) | S9: =$C$3&$D$4&B9 -> PainoM30 | V9: 3 | Y9: 3 | Z9: Välineen pituus
C10: =IF(B10="","",VLOOKUP(S10,Kilpailijat!$A$11:$E$2015,5,0)) | O10: =IF(N10="","",VLOOKUP(N10,$Y$7:$Z$11,2,0)) | R10: =IF(Q10="","",VLOOKUP(Q10,$V$7:$W$22,2,0)) | S10: =$C$3&$D$4&B10 -> PainoM30 | V10: 4 | Y10: 4 | Z10: Painopiste ei metallipään keskellä
C11: =IF(B11="","",VLOOKUP(S11,Kilpailijat!$A$11:$E$2015,5,0)) | O11: =IF(N11="","",VLOOKUP(N11,$Y$7:$Z$11,2,0)) | R11: =IF(Q11="","",VLOOKUP(Q11,$V$7:$W$22,2,0)) | S11: =$C$3&$D$4&B11 -> PainoM30 | V11: 5 | Y11: 5 | Z11: Muu
C12: =IF(B12="","",VLOOKUP(S12,Kilpailijat!$A$11:$E$2015,5,0)) | O12: =IF(N12="","",VLOOKUP(N12,$Y$7:$Z$11,2,0)) | R12: =IF(Q12="","",VLOOKUP(Q12,$V$7:$W$22,2,0)) | S12: =$C$3&$D$4&B12 -> PainoM30 | V12: 6
C13: =IF(B13="","",VLOOKUP(S13,Kilpailijat!$A$11:$E$2015,5,0)) | O13: =IF(N13="","",VLOOKUP(N13,$Y$7:$Z$11,2,0)) | R13: =IF(Q13="","",VLOOKUP(Q13,$V$7:$W$22,2,0)) | S13: =$C$3&$D$4&B13 -> PainoM30 | V13: 7
C14: =IF(B14="","",VLOOKUP(S14,Kilpailijat!$A$11:$E$2015,5,0)) | O14: =IF(N14="","",VLOOKUP(N14,$Y$7:$Z$11,2,0)) | R14: =IF(Q14="","",VLOOKUP(Q14,$V$7:$W$22,2,0)) | S14: =$C$3&$D$4&B14 -> PainoM30 | V14: 8
C15: =IF(B15="","",VLOOKUP(S15,Kilpailijat!$A$11:$E$2015,5,0)) | O15: =IF(N15="","",VLOOKUP(N15,$Y$7:$Z$11,2,0)) | R15: =IF(Q15="","",VLOOKUP(Q15,$V$7:$W$22,2,0)) | S15: =$C$3&$D$4&B15 -> PainoM30 | V15: 9
C16: =IF(B16="","",VLOOKUP(S16,Kilpailijat!$A$11:$E$2015,5,0)) | O16: =IF(N16="","",VLOOKUP(N16,$Y$7:$Z$11,2,0)) | R16: =IF(Q16="","",VLOOKUP(Q16,$V$7:$W$22,2,0)) | S16: =$C$3&$D$4&B16 -> PainoM30 | V16: 10
C17: =IF(B17="","",VLOOKUP(S17,Kilpailijat!$A$11:$E$2015,5,0)) | O17: =IF(N17="","",VLOOKUP(N17,$Y$7:$Z$11,2,0)) | R17: =IF(Q17="","",VLOOKUP(Q17,$V$7:$W$22,2,0)) | S17: =$C$3&$D$4&B17 -> PainoM30 | V17: 11
C18: =IF(B18="","",VLOOKUP(S18,Kilpailijat!$A$11:$E$2015,5,0)) | O18: =IF(N18="","",VLOOKUP(N18,$Y$7:$Z$11,2,0)) | R18: =IF(Q18="","",VLOOKUP(Q18,$V$7:$W$22,2,0)) | S18: =$C$3&$D$4&B18 -> PainoM30 | V18: 12
C19: =IF(B19="","",VLOOKUP(S19,Kilpailijat!$A$11:$E$2015,5,0)) | O19: =IF(N19="","",VLOOKUP(N19,$Y$7:$Z$11,2,0)) | R19: =IF(Q19="","",VLOOKUP(Q19,$V$7:$W$22,2,0)) | S19: =$C$3&$D$4&B19 -> PainoM30
C20: =IF(B20="","",VLOOKUP(S20,Kilpailijat!$A$11:$E$2015,5,0)) | O20: =IF(N20="","",VLOOKUP(N20,$Y$7:$Z$11,2,0)) | R20: =IF(Q20="","",VLOOKUP(Q20,$V$7:$W$22,2,0)) | S20: =$C$3&$D$4&B20 -> PainoM30
C21: =IF(B21="","",VLOOKUP(S21,Kilpailijat!$A$11:$E$2015,5,0)) | O21: =IF(N21="","",VLOOKUP(N21,$Y$7:$Z$11,2,0)) | R21: =IF(Q21="","",VLOOKUP(Q21,$V$7:$W$22,2,0)) | S21: =$C$3&$D$4&B21 -> PainoM30
C22: =IF(B22="","",VLOOKUP(S22,Kilpailijat!$A$11:$E$2015,5,0)) | O22: =IF(N22="","",VLOOKUP(N22,$Y$7:$Z$11,2,0)) | R22: =IF(Q22="","",VLOOKUP(Q22,$V$7:$W$22,2,0)) | S22: =$C$3&$D$4&B22 -> PainoM30
C23: =IF(B23="","",VLOOKUP(S23,Kilpailijat!$A$11:$E$2015,5,0)) | O23: =IF(N23="","",VLOOKUP(N23,$Y$7:$Z$11,2,0)) | R23: =IF(Q23="","",VLOOKUP(Q23,$V$7:$W$22,2,0)) | S23: =$C$3&$D$4&B23 -> PainoM30
C24: =IF(B24="","",VLOOKUP(S24,Kilpailijat!$A$11:$E$2015,5,0)) | O24: =IF(N24="","",VLOOKUP(N24,$Y$7:$Z$11,2,0)) | R24: =IF(Q24="","",VLOOKUP(Q24,$V$7:$W$22,2,0)) | S24: =$C$3&$D$4&B24 -> PainoM30
C25: =IF(B25="","",VLOOKUP(S25,Kilpailijat!$A$11:$E$2015,5,0)) | O25: =IF(N25="","",VLOOKUP(N25,$Y$7:$Z$11,2,0)) | R25: =IF(Q25="","",VLOOKUP(Q25,$V$7:$W$22,2,0)) | S25: =$C$3&$D$4&B25 -> PainoM30
C26: =IF(B26="","",VLOOKUP(S26,Kilpailijat!$A$11:$E$2015,5,0)) | O26: =IF(N26="","",VLOOKUP(N26,$Y$7:$Z$11,2,0)) | R26: =IF(Q26="","",VLOOKUP(Q26,$V$7:$W$22,2,0)) | S26: =$C$3&$D$4&B26 -> PainoM30
C27: =IF(B27="","",VLOOKUP(S27,Kilpailijat!$A$11:$E$2015,5,0)) | O27: =IF(N27="","",VLOOKUP(N27,$Y$7:$Z$11,2,0)) | R27: =IF(Q27="","",VLOOKUP(Q27,$V$7:$W$22,2,0)) | S27: =$C$3&$D$4&B27 -> PainoM30
C28: =IF(B28="","",VLOOKUP(S28,Kilpailijat!$A$11:$E$2015,5,0)) | O28: =IF(N28="","",VLOOKUP(N28,$Y$7:$Z$11,2,0)) | R28: =IF(Q28="","",VLOOKUP(Q28,$V$7:$W$22,2,0)) | S28: =$C$3&$D$4&B28 -> PainoM30
C29: =IF(B29="","",VLOOKUP(S29,Kilpailijat!$A$11:$E$2015,5,0)) | O29: =IF(N29="","",VLOOKUP(N29,$Y$7:$Z$11,2,0)) | R29: =IF(Q29="","",VLOOKUP(Q29,$V$7:$W$22,2,0)) | S29: =$C$3&$D$4&B29 -> PainoM30
C30: =IF(B30="","",VLOOKUP(S30,Kilpailijat!$A$11:$E$2015,5,0)) | O30: =IF(N30="","",VLOOKUP(N30,$Y$7:$Z$11,2,0)) | R30: =IF(Q30="","",VLOOKUP(Q30,$V$7:$W$22,2,0)) | S30: =$C$3&$D$4&B30 -> PainoM30
... C106: =IF(B106="","",VLOOKUP(S106,Kilpailijat!$A$11:$E$2015,5,0)) | O106: =IF(N106="","",VLOOKUP(N106,$Y$7:$Z$11,2,0)) | R106: =IF(Q106="","",VLOOKUP(Q106,$V$7:$W$22,2,0)) | S106: =$C$3&$D$4&B106 -> PainoM30

Sheet WeiPainPK
A1: Kilpailutapahtuma: | B1: Koetapahtuma
A2: HEITTOPAINON MITTAUSPÖYTÄKIRJA: | G2: Ohjeet
A3: Paino NRO | F3: 1 | G3: Paino
A4: MITTAAJAN PUUMERKKI PAINOSSA | C4: =IF($B$3="","",VLOOKUP($B$3,WeiPain!$A$7:$Q$120,4,0)) | F4: 2 | G4: Halkaisija
A5: Painon TUNTOMERKIT: | C5: =IF($B$3="","",VLOOKUP($B$3,WeiPain!$A$7:$Q$120,5,0)) | F5: 3 | G5: Välineen pituus
A6: Painon MATERIAALI: | C6: =IF($B$3="","",VLOOKUP($B$3,WeiPain!$A$7:$Q$120,6,0)) | F6: 4 | G6: Painopiste eimetallipään keskellä
A7: Painon OMISTAJA: | C7: =IF($B$3="","",VLOOKUP($B$3,WeiPain!$A$7:$Q$120,3,0)) | F7: 5 | G7: MUU
B8: MINIMIARVO | C8: MITTAUSTULOS | D8: MAKSIMIARVO
A9: Paino kg | B9: =WeiPain!G3 -> 15.88 | C9: =IF($B$3="","",VLOOKUP($B$3,WeiPain!$A$7:$Q$120,7,0))
A10: Halkaisija | B10: =WeiPain!H3 -> 145 | C10: =IF($B$3="","",VLOOKUP($B$3,WeiPain!$A$7:$Q$120,8,0)) | D10: =WeiPain!H4 -> 165
A11: Välineen pituus | C11: =IF($B$3="","",VLOOKUP($B$3,WeiPain!$A$7:$Q$120,9,0)) | D11: =WeiPain!I4 -> 410
A12: Painopiste metallipään keskellä | C12: =IF($B$3="","",VLOOKUP($B$3,WeiPain!$A$7:$Q$120,10,0))
A13: Muuta tietoa tai huomautuksia painosta
A14: =IF($B$3="","",VLOOKUP($B$3,WeiPain!$A$7:$Q$120,11,0))
A19: PAINO ON | B19: Hyväksytty | C19: =IF($B$3="","",VLOOKUP($B$3,WeiPain!$A$7:$Q$120,12,0))
B20: Hyvlätty | C20: =IF($B$3="","",VLOOKUP($B$3,WeiPain!$A$7:$Q$120,13,0))
A21: HYLKÄYKSEN SYY ON | B21: =IF($B$3="","",VLOOKUP($B$3,WeiPain!$A$7:$R$120,15,0))
A23: MUUN HYLKÄYSSYYN SELITYS:
A24: =IF($B$3="","",VLOOKUP($B$3,WeiPain!$A$7:$Q$120,16,0))
A31: Tarkastuksen suoritti
A32: Nimen selvennys: | B32: =IF($B$3="","",VLOOKUP($B$3,WeiPain!$A$7:$R$120,18,0))
A34: Tarkistuspäivämäärä: | B34: =IF(C34<>"","",NOW()) -> 45751.599

Sheet Kilpailijat
B1: Kilpailutapahtuma:
B2: Osanottajat | F2: Ohjeet
B3: Esimerkkejä osanottajien kirjaustavasta
A4: =B4&C4&D4 -> KeihäsM1001 | B4: Keihäs | C4: M | D4: 1001 | E4: Kisaaja 1
A5: =B5&C5&D5 -> MoukariM1052 | B5: Moukari | C5: M | D5: 1052 | E5: Kisaaja 52
A6: =B6&C6&D6 -> KiekkoN171115 | B6: Kiekko | C6: N17 | D6: 1115 | E6: Kisaaja 115
A9: Kaava hoitaa tämän sarakkeen
B10: Tähän listataan heittolajien ja otteluiden osanottajat
A11: Hakuehto | B11: Laji | C11: Sarja | D11: Kilpailu numero | E11: Kilpailijan nimi | F11: Seura
A12: =B12&C12&D12
A13: =B13&C13&D13
A14: =B14&C14&D14
A15: =B15&C15&D15
A16: =B16&C16&D16
A17: =B17&C17&D17
A18: =B18&C18&D18
A19: =B19&C19&D19
A20: =B20&C20&D20
A21: =B21&C21&D21
A22: =B22&C22&D22
A23: =B23&C23&D23
... A5006: =B5006&C5006&D5006

Sheet Yht_veto
C1: Kilpailutapahtuma: | D1: =Kilpailijat!$C$1 -> 0
A2: Yhteenveto välinekontrollista | I2: Ohjeet
A4: Ajankohta
C6: Hyväksytty | D6: Hylätty | E6: Yhteensä
A7: Javelin Keihäs | C7: =JavKeih!AC7 -> 0 | D7: =JavKeih!AD7 -> 0 | E7: =SUM(C7:D7) -> 0
A8: Discus Kiekko | C8: =DisKie!N6 -> 0 | D8: =DisKie!O6 -> 0 | E8: =SUM(C8:D8) -> 0
A9: Hammer Moukari | C9: =HamMou!N5 -> 0 | D9: =HamMou!O5 -> 0 | E9: =SUM(C9:D9) -> 0
A10: Shot put Kuula | C10: =ShotpKuu!K6 -> 0 | D10: =ShotpKuu!L6 -> 0 | E10: =SUM(C10:D10) -> 0
A11: Weight throw Painonheitto | C11: =WeiPain!L5 -> 0 | D11: =WeiPain!M5 -> 0 | E11: =SUM(C11:D11) -> 0
A12: Kaikki yhteensä | C12: =SUM(C7:C11) -> 0 | D12: =SUM(D7:D11) -> 0 | E12: =SUM(E7:E11) -> 0
A14: Kuula hylätyt
A15: Sarja | B15: Omistaja | C15: Tuntomerkit | D15: Hylkäyksen_syy | E15: Muu_ hylkäyssyyn_selitys | F15: Kuula hylätty merkitse 1 | G15: Määrä_hylätty | I15: Vieressä olevat Pivot taulukot päivitetään tallennusten jälkeen: Taulukon päällä hiiren kakkospainike (yl oikea) > Päivitä. Jos ilmoittaa, "Pivot taulukko ei saa mennä toisen päälle, lisää rivejä Pivot taulukoiden väliin.
I18: Taulukot päivittyvät myös, kun tiedosto suljetaan ja avataan uudelleen
A20: Moukari hylätyt
A21: Sarja | B21: Omistaja | C21: Tuntomerkit | D21: Hylkäyksen_syy | E21: Muun_ hylkäyssyyn _selitys | F21: Moukari Hylätty merkitse 1 | G21: Määrä_ Hylätty
A28: Kiekko hylätyt
A29: Sarja | B29: Omistaja | C29: Tuntomerkit | D29: Hylkäyksen_syy | E29: Muun_hylkäyssyyn_selitys | F29: Kiekko on Hylätty merkitse 1 | G29: Määrä_Hylätty
A38: Keihäs hylätyt
A39: Sarja | B39: Omistaja: | C39: Keihään_valmistaja_ja_merkki: | D39: HYLKÄYKSEN_SYY | E39: Muun_hylkäyssyyn_selitys | F39: Keihäs hylätty merkitse 1 | G39: Määrä_hylätty
A40: Kaikki yhteensä

Sheet Mitat
A1: HEITTOVÄLINEIDEN PERUSMITAT
A2: Voimassa alkaen 1.4.2025 | G2: Ohjeet
A3: KUULA
A4: Sarja | B4: paino min. g | C4: valmist. ohje | D4: halkaisija
A5: M | B5: 7260 | C5: 7265-7285 | D5: 110 | E5: 130
A6: M22 | B6: 7260 | C6: 7265-7285 | D6: 110 | E6: 130
A7: M19 | B7: 6000 | C7: 6005-6025 | D7: 105 | E7: 125
A8: M17 | B8: 5000 | C8: 5005-5025 | D8: 100 | E8: 120
A9: M15 | B9: 4000 | C9: 4005-4025 | D9: 95 | E9: 110
A10: M14 | B10: 4000 | C10: 4005-4025 | D10: 95 | E10: 110
A11: P13 | B11: 3000 | C11: 3005-3025 | D11: 85 | E11: 110
A12: P12 | B12: 3000 | C12: 3005-3025 | D12: 85 | E12: 110
A13: P11 | B13: 2500 | C13: 2505-2525 | D13: 85 | E13: 95
A14: P10 | B14: 2500 | C14: 2505-2525 | D14: 85 | E14: 95
A15: P9 | B15: 2000 | C15: 2005-2025 | D15: 80 | E15: 90
A16: N | B16: 4000 | C16: 4005-4025 | D16: 95 | E16: 110
... A56: N100 | B56: 2000 | C56: 2005-2025 | D56: 80 | E56: 90
A57: KIEKKO (Suluissa olevat mitat ovat ohjeellisia)
A58: Sarja | B58: paino min. g | C58: valmist. ohje | D58: halkaisija mm | F58: Paksuus mm | H58: Keskiosa mm | J58: Metallikehän paksuus
A59: M | B59: 2000 | C59: 2005-2025 | D59: 219 | E59: 221 | F59: 44 | G59: 46 | H59: 50 | I59: 57 | J59: 12 | K59: 13
A60: M22 | B60: 2000 | C60: 2005-2025 | D60: 219 | E60: 221 | F60: 44 | G60: 46 | H60: 50 | I60: 57 | J60: 12 | K60: 13
A61: M19 | B61: 1750 | C61: 1755-1775 | D61: 210 | E61: 212 | F61: 41 | G61: 43 | H61: 50 | I61: 57 | J61: 12 | K61: 13
A62: M17 | B62: 1500 | C62: 1505-1525 | D62: 200 | E62: 202 | F62: 38 | G62: 40 | H62: 50 | I62: 57 | J62: 12 | K62: 13
A63: M15 | B63: 1000 | C63: 1005-1025 | D63: 180 | E63: 182 | F63: 37 | G63: 39 | H63: 50 | I63: 57 | J63: 12 | K63: 13
A64: N14 | B64: 1000 | C64: 1005-1025 | D64: 180 | E64: 182 | F64: 37 | G64: 39 | H64: 50 | I64: 57 | J64: 12 | K64: 13
A65: P13 | B65: 750 | C65: 755-775 | D65: (165 | E65: 172) | F65: (33 | G65: 37) | H65: (45 | I65: 55) | J65: 10 | K65: 13
A66: P12 | B66: 750 | C66: 755-775 | D66: (165 | E66: 172) | F66: (33 | G66: 37) | H66: (45 | I66: 55) | J66: 10 | K66: 13
A67: P11 | B67: 600 | C67: 605-625 | D67: (155 | E67: 161) | F67: (28 | G67: 35) | H67: (37 | I67: 45)
A68: P10 | B68: 600 | C68: 605-625 | D68: (155 | E68: 161) | F68: (28 | G68: 35) | H68: (37 | I68: 45)
A69: P9 | B69: 600 | C69: 605-625 | D69: (155 | E69: 161) | F69: (28 | G69: 35) | H69: (37 | I69: 45)
A70: N | B70: 1000 | C70: 1005-1025 | D70: 180 | E70: 182 | F70: 37 | G70: 39 | H70: 50 | I70: 57 | J70: 12 | K70: 13
A71: N22 | B71: 1000 | C71: 1005-1025 | D71: 180 | E71: 182 | F71: 37 | G71: 39 | H71: 50 | I71: 57 | J71: 12 | K71: 13
A72: N19 | B72: 1000 | C72: 1005-1025 | D72: 180 | E72: 182 | F72: 37 | G72: 39 | H72: 50 | I72: 57 | J72: 12 | K72: 13
A73: N17 | B73: 1000 | C73: 1005-1025 | D73: 180 | E73: 182 | F73: 37 | G73: 39 | H73: 50 | I73: 57 | J73: 12 | K73: 13
A74: N15 | B74: 750 | C74: 755-775 | D74: (165 | E74: 172) | F74: (33 | G74: 37) | H74: (45 | I74: 55) | J74: 10 | K74: 13
A75: N14 | B75: 750 | C75: 755-775 | D75: (165 | E75: 172) | F75: (33 | G75: 37) | H75: (45 | I75: 55) | J75: 10 | K75: 13
A76: T13 | B76: 600 | C76: 605-625 | D76: (155 | E76: 161) | F76: (28 | G76: 35) | H76: (37 | I76: 45)
A77: T12 | B77: 600 | C77: 605-625 | D77: (155 | E77: 161) | F77: (28 | G77: 35) | H77: (37 | I77: 45)
A78: T11 | B78: 600 | C78: 605-625 | D78: (155 | E78: 161) | F78: (28 | G78: 35) | H78: (37 | I78: 45)
A79: T10 | B79: 600 | C79: 605-625 | D79: (155 | E79: 161) | F79: (28 | G79: 35) | H79: (37 | I79: 45)
A80: T9 | B80: 600 | C80: 605-625 | D80: (155 | E80: 161) | F80: (28 | G80: 35) | H80: (37 | I80: 45)
A81: M30 | B81: 2000 | C81: 2005-2025 | D81: 219 | E81: 221 | F81: 44 | G81: 46 | H81: 50 | I81: 57 | J81: 12 | K81: 13
A82: M35 | B82: 2000 | C82: 2005-2025 | D82: 219 | E82: 221 | F82: 44 | G82: 46 | H82: 50 | I82: 57 | J82: 12 | K82: 13
A83: M40 | B83: 2000 | C83: 2005-2025 | D83: 219 | E83: 221 | F83: 44 | G83: 46 | H83: 50 | I83: 57 | J83: 12 | K83: 13
A84: M45 | B84: 2000 | C84: 2005-2025 | D84: 219 | E84: 221 | F84: 44 | G84: 46 | H84: 50 | I84: 57 | J84: 12 | K84: 13
A85: M50 | B85: 1500 | C85: 1505-1525 | D85: 200 | E85: 202 | F85: 38 | G85: 40 | H85: 50 | I85: 57 | J85: 12 | K85: 13
A86: M55 | B86: 1500 | C86: 1505-1525 | D86: 200 | E86: 202 | F86: 38 | G86: 40 | H86: 50 | I86: 57 | J86: 12 | K86: 13
A87: M60 | B87: 1000 | C87: 1005-1025 | D87: 180 | E87: 182 | F87: 37 | G87: 39 | H87: 50 | I87: 57 | J87: 12 | K87: 13
A88: M65 | B88: 1000 | C88: 1005-1025 | D88: 180 | E88: 182 | F88: 37 | G88: 39 | H88: 50 | I88: 57 | J88: 12 | K88: 13
A89: M70 | B89: 1000 | C89: 1005-1025 | D89: 180 | E89: 182 | F89: 37 | G89: 39 | H89: 50 | I89: 57 | J89: 12 | K89: 13
A90: M75 | B90: 1000 | C90: 1005-1025 | D90: 180 | E90: 182 | F90: 37 | G90: 39 | H90: 50 | I90: 57 | J90: 12 | K90: 13
A91: M80 | B91: 1000 | C91: 1005-1025 | D91: 180 | E91: 182 | F91: 37 | G91: 39 | H91: 50 | I91: 57 | J91: 12 | K91: 13
A92: M85 | B92: 1000 | C92: 1005-1025 | D92: 180 | E92: 182 | F92: 37 | G92: 39 | H92: 50 | I92: 57 | J92: 12 | K92: 13
... A103: N70 | B103: 1000 | C103: 1005-1025 | D103: 180 | E103: 182 | F103: 37 | G103: 39 | H103: 50 | I103: 57 | J103: 12 | K103: 13
A104: N75 | B104: 750 | C104: 755-775 | D104: (165 | E104: 172) | F104: (33 | G104: 37) | H104: (45 | I104: 55) | J104: 10 | K104: 13
A105: N80 | B105: 750 | C105: 755-775 | D105: (165 | E105: 172) | F105: (33 | G105: 37) | H105: (45 | I105: 55) | J105: 10 | K105: 13
A106: N85 | B106: 750 | C106: 755-775 | D106: (165 | E106: 172) | F106: (33 | G106: 37) | H106: (45 | I106: 55) | J106: 10 | K106: 13
A107: N90 | B107: 750 | C107: 755-775 | D107: (165 | E107: 172) | F107: (33 | G107: 37) | H107: (45 | I107: 55) | J107: 10 | K107: 13
A108: N95 | B108: 750 | C108: 755-775 | D108: (165 | E108: 172) | F108: (33 | G108: 37) | H108: (45 | I108: 55) | J108: 10 | K108: 13
A109: N100 | B109: 750 | C109: 755-775 | D109: (165 | E109: 172) | F109: (33 | G109: 37) | H109: (45 | I109: 55) | J109: 10 | K109: 13
A110: MOUKARI
A111: Sarja | B111: paino min. g | C111: valmist. rajat g | E111: Halkaisija | G111: Pit.kahvan sisäpinnasta
A112: M | B112: 7260 | C112: 7265 | D112: 7285 | E112: 110 | F112: 130 | G112: 1215
A113: M22 | B113: 7260 | C113: 7265 | D113: 7285 | E113: 110 | F113: 130 | G113: 1215
A114: M19 | B114: 6000 | C114: 6005 | D114: 6025 | E114: 105 | F114: 125 | G114: 1215
A115: M17 | B115: 5000 | C115: 5005 | D115: 5025 | E115: 100 | F115: 120 | G115: 1200
A116: M15 | B116: 4000 | C116: 4005 | D116: 4025 | E116: 95 | F116: 110 | G116: 1195
A117: M14 | B117: 4000 | C117: 4005 | D117: 4025 | E117: 95 | F117: 110 | G117: 1195
A118: P13 | B118: 3000 | C118: 3005 | D118: 3025 | E118: 85 | F118: 100 | G118: 1195
A119: P12 | B119: 3000 | C119: 3005 | D119: 3025 | E119: 85 | F119: 100 | G119: 1195
A120: P11 | B120: 2500 | C120: 2505 | D120: 2525 | E120: 85 | F120: 95 | G120: 990
A121: P10 | B121: 2500 | C121: 2505 | D121: 2525 | E121: 85 | F121: 95 | G121: 990
A122: P9 | B122: 2500 | C122: 2505 | D122: 2525 | E122: 85 | F122: 95 | G122: 990
A123: N | B123: 4000 | C123: 4005 | D123: 4025 | E123: 95 | F123: 110 | G123: 1195
... A163: N100 | B163: 2000 | C163: 2005 | D163: 2025 | E163: 80 | F163: 90 | G163: 1195
A164: KEIHÄS
A165: 1 | B165: 2 | C165: 3 | D165: 4 | E165: 5 | F165: 6 | G165: 7 | H165: 8 | I165: 9 | J165: 10 | K165: 11 | L165: 12 | M165: 13 | N165: 14
A166: Suurin Pituus Kärjen etäis. Kädensijan Metallikärj.
A167: Sarja | B167: paino min. g | C167: valmist. rajat g | E167: Halkaisija kädens ed. mm | G167: pituus mm | I167: painop. kärjestä | K167: kädensijan pit. Mm | M167: kärjen pituus mm
A168: M | B168: 800 | C168: 805 | D168: 825 | E168: 25 | F168: 30 | G168: 2600 | H168: 2700 | I168: 900 | J168: 1060 | K168: 150 | L168: 160 | M168: 250 | N168: 330
A169: M22 | B169: 800 | C169: 805 | D169: 825 | E169: 25 | F169: 30 | G169: 2600 | H169: 2700 | I169: 900 | J169: 1060 | K169: 150 | L169: 160 | M169: 250 | N169: 330
A170: M19 | B170: 800 | C170: 805 | D170: 825 | E170: 25 | F170: 30 | G170: 2600 | H170: 2700 | I170: 900 | J170: 1060 | K170: 150 | L170: 160 | M170: 250 | N170: 330
A171: M17 | B171: 700 | C171: 705 | D171: 725 | E171: 23 | F171: 28 | G171: 2400 | H171: 2500 | I171: 850 | J171: 990 | K171: 150 | L171: 160 | M171: 250 | N171: 330
A172: M15 | B172: 600 | C172: 605 | D172: 625 | E172: 20 | F172: 25 | G172: 2200 | H172: 2300 | I172: 800 | J172: 920 | K172: 140 | L172: 150 | M172: 250 | N172: 330
A173: M14 | B173: 600 | C173: 605 | D173: 625 | E173: 20 | F173: 25 | G173: 2200 | H173: 2300 | I173: 800 | J173: 920 | K173: 140 | L173: 150 | M173: 250 | N173: 330
A174: P13 | B174: 400 | C174: 405 | D174: 425 | E174: 17 | F174: 23 | G174: 1850 | H174: 2050 | I174: kädensijalla | K174: 125 | L174: 145 | N174: 270
A175: P12 | B175: 400 | C175: 405 | D175: 425 | E175: 17 | F175: 23 | G175: 1850 | H175: 2050 | I175: kädensijalla | K175: 125 | L175: 145 | N175: 270
A176: P11 | B176: 400 | C176: 405 | D176: 425 | E176: 17 | F176: 23 | G176: 1850 | H176: 2050 | I176: kädensijalla | K176: 125 | L176: 145 | N176: 270
A177: P10 | B177: 400 | C177: 405 | D177: 425 | E177: 17 | F177: 23 | G177: 1850 | H177: 2050 | I177: kädensijalla | K177: 125 | L177: 145 | N177: 270
A178: P9 | B178: 400 | C178: 405 | D178: 425 | E178: 17 | F178: 23 | G178: 1850 | H178: 2050 | I178: kädensijalla | K178: 125 | L178: 145 | N178: 270
A179: N | B179: 600 | C179: 605 | D179: 625 | E179: 20 | F179: 25 | G179: 2200 | H179: 2300 | I179: 800 | J179: 920 | K179: 140 | L179: 150 | M179: 250 | N179: 330
A180: N22 | B180: 600 | C180: 605 | D180: 625 | E180: 20 | F180: 25 | G180: 2200 | H180: 2300 | I180: 800 | J180: 920 | K180: 140 | L180: 150 | M180: 250 | N180: 330
A181: N19 | B181: 600 | C181: 605 | D181: 625 | E181: 20 | F181: 25 | G181: 2200 | H181: 2300 | I181: 800 | J181: 920 | K181: 140 | L181: 150 | M181: 250 | N181: 330
A182: N17 | B182: 500 | C182: 505 | D182: 525 | E182: 20 | F182: 24 | G182: 2000 | H182: 2100 | I182: 780 | J182: 880 | K182: 135 | L182: 145 | M182: 220 | N182: 270
A183: N15 | B183: 400 | C183: 405 | D183: 425 | E183: 17 | F183: 23 | G183: 1850 | H183: 2050 | I183: kädensijalla | K183: 125 | L183: 145 | N183: 270
A184: N14 | B184: 400 | C184: 405 | D184: 425 | E184: 17 | F184: 23 | G184: 1850 | H184: 2050 | I184: kädensijalla | K184: 125 | L184: 145 | N184: 270
A185: T13 | B185: 400 | C185: 405 | D185: 425 | E185: 17 | F185: 23 | G185: 1850 | H185: 2050 | I185: kädensijalla | K185: 125 | L185: 145 | N185: 270
A186: T12 | B186: 400 | C186: 405 | D186: 425 | E186: 17 | F186: 23 | G186: 1850 | H186: 2050 | I186: kädensijalla | K186: 125 | L186: 145 | N186: 270
A187: T11 | B187: 400 | C187: 405 | D187: 425 | E187: 17 | F187: 23 | G187: 1850 | H187: 2050 | I187: kädensijalla | K187: 125 | L187: 145 | N187: 270
A188: T10 | B188: 400 | C188: 405 | D188: 425 | E188: 17 | F188: 23 | G188: 1850 | H188: 2050 | I188: kädensijalla | K188: 125 | L188: 145 | N188: 270
...
